Workbook

Sheet Contas a receber
B5: Cliente | C5: Janeiro | D5: Fevereiro | E5: Março | F5: Abril | G5: Maio | H5: Junho | I5: Julho | J5: Agosto | K5: Setembro | L5: Outubro | M5: Novembro | N5: Dezembro | O5: Total
O6: =SUM(C6:N6) -> 0
O7: =SUM(C7:N7) -> 0
O8: =SUM(C8:N8) -> 0
O9: =SUM(C9:N9) -> 0
O10: =SUM(C10:N10) -> 0
O11: =SUM(C11:N11) -> 0
O12: =SUM(C12:N12) -> 0
O13: =SUM(C13:N13) -> 0
O14: =SUM(C14:N14) -> 0
O15: =SUM(C15:N15) -> 0
O16: =SUM(C16:N16) -> 0
O17: =SUM(C17:N17) -> 0
... O34: =SUM(C34:N34) -> 0
B35: TOTAL | C35: =SUM(C6:C34) -> 0 | D35: =SUM(D6:D34) -> 0 | E35: =SUM(E6:E34) -> 0 | F35: =SUM(F6:F34) -> 0 | G35: =SUM(G6:G34) -> 0 | H35: =SUM(H6:H34) -> 0 | I35: =SUM(I6:I34) -> 0 | J35: =SUM(J6:J34) -> 0 | ... O35: =SUM(O6:O34) -> 0

Sheet Índice
F1: NOME CLIENTE

Sheet Fluxo de Caixa consolidado
B2: Fluxo de Caixa Consolidado - 2023 | P2: Total
B3: Mês | C3: Janeiro | D3: Fevereiro | E3: Março | F3: Abril | G3: Maio | H3: Junho | I3: Julho | J3: Agosto | K3: Setembro | L3: Outubro | M3: Novembro | N3: Dezembro | P3: Real
B4: ENTRADAS | C4: Real | D4: Real | E4: Real | F4: Real | G4: Real | H4: Real | I4: Real | J4: Real | K4: Real | L4: Real | M4: Real | N4: Real | P4: ENTRADAS
B5: Dinheiro | C5: =SUMIF('Fluxo Janeiro'!$C$7:$C$14,'Fluxo de Caixa consolidado'!B5,'Fluxo Janeiro'!$AJ$7:$AJ$14) -> 0 | D5: =SUMIF('Fluxo Fevereiro'!$C$7:$C$14,'Fluxo de Caixa consolidado'!B5,'Fluxo Fevereiro'!$AJ$7:$AJ$14) -> 0 | E5: =SUMIF('Fluxo Março'!$C$7:$C$14,'Fluxo de Caixa consolidado'!B5,'Fluxo Março'!$AJ$7:$AJ$14) -> 0 | F5: =SUMIF('Fluxo Abril'!$C$7:$C$14,'Fluxo de Caixa consolidado'!B5,'Fluxo Abril'!$AJ$7:$AJ$14) -> 0 | G5: =SUMIF('Fluxo Maio'!$C$7:$C$14,'Fluxo de Caixa consolidado'!B5,'Fluxo Maio'!$AJ$7:$AJ$14) -> 0 | H5: =SUMIF('Fluxo Junho'!$C$7:$C$14,'Fluxo de Caixa consolidado'!B5,'Fluxo Junho'!$AJ$7:$AJ$14) -> 0 | I5: =SUMIF('Fluxo Julho'!$C$7:$C$14,'Fluxo de Caixa consolidado'!B5,'Fluxo Julho'!$AJ$7:$AJ$14) -> 0 | J5: =SUMIF('Fluxo Agosto'!$C$7:$C$14,'Fluxo de Caixa consolidado'!B5,'Fluxo Agosto'!$AJ$7:$AJ$14) -> 0 | K5: =SUMIF('Fluxo Setembro'!$C$7:$C$14,'Fluxo de Caixa consolidado'!B5,'Fluxo Setembro'!$AJ$7:$AJ$14) -> 0 | L5: =SUMIF('Fluxo Outubro'!$C$6:$C$14,'Fluxo de Caixa consolidado'!B5,'Fluxo Outubro'!$AJ$6:$AJ$14) -> 0 | M5: =SUMIF('Fluxo Novembro'!$C$7:$C$14,'Fluxo de Caixa consolidado'!B5,'Fluxo Novembro'!$AJ$7:$AJ$14) -> 0 | N5: =SUMIF('Fluxo Dezembro'!$C$7:$C$14,'Fluxo de Caixa consolidado'!B5,'Fluxo Dezembro'!$AJ$7:$AJ$14) -> 0 | P5: =SUM(C5:N5) -> 0
B6: Tranferências Bancárias | C6: =SUMIF('Fluxo Janeiro'!$C$7:$C$14,'Fluxo de Caixa consolidado'!B6,'Fluxo Janeiro'!$AJ$7:$AJ$14) -> 0 | D6: =SUMIF('Fluxo Fevereiro'!$C$7:$C$14,'Fluxo de Caixa consolidado'!B6,'Fluxo Fevereiro'!$AJ$7:$AJ$14) -> 0 | E6: =SUMIF('Fluxo Março'!$C$7:$C$14,'Fluxo de Caixa consolidado'!B6,'Fluxo Março'!$AJ$7:$AJ$14) -> 0 | F6: =SUMIF('Fluxo Abril'!$C$7:$C$14,'Fluxo de Caixa consolidado'!B6,'Fluxo Abril'!$AJ$7:$AJ$14) -> 0 | G6: =SUMIF('Fluxo Maio'!$C$7:$C$14,'Fluxo de Caixa consolidado'!B6,'Fluxo Maio'!$AJ$7:$AJ$14) -> 0 | H6: =SUMIF('Fluxo Junho'!$C$7:$C$14,'Fluxo de Caixa consolidado'!B6,'Fluxo Junho'!$AJ$7:$AJ$14) -> 0 | I6: =SUMIF('Fluxo Julho'!$C$7:$C$14,'Fluxo de Caixa consolidado'!B6,'Fluxo Julho'!$AJ$7:$AJ$14) -> 0 | J6: =SUMIF('Fluxo Agosto'!$C$7:$C$14,'Fluxo de Caixa consolidado'!B6,'Fluxo Agosto'!$AJ$7:$AJ$14) -> 0 | K6: =SUMIF('Fluxo Setembro'!$C$7:$C$14,'Fluxo de Caixa consolidado'!B6,'Fluxo Setembro'!$AJ$7:$AJ$14) -> 0 | L6: =SUMIF('Fluxo Outubro'!$C$6:$C$14,'Fluxo de Caixa consolidado'!B6,'Fluxo Outubro'!$AJ$6:$AJ$14) -> 0 | M6: =SUMIF('Fluxo Novembro'!$C$7:$C$14,'Fluxo de Caixa consolidado'!B6,'Fluxo Novembro'!$AJ$7:$AJ$14) -> 0 | N6: =SUMIF('Fluxo Dezembro'!$C$7:$C$14,'Fluxo de Caixa consolidado'!B6,'Fluxo Dezembro'!$AJ$7:$AJ$14) -> 0 | P6: =SUM(C6:N6) -> 0
B7: Cartão | C7: =SUMIF('Fluxo Janeiro'!$C$7:$C$14,'Fluxo de Caixa consolidado'!B7,'Fluxo Janeiro'!$AJ$7:$AJ$14) -> 0 | D7: =SUMIF('Fluxo Fevereiro'!$C$7:$C$14,'Fluxo de Caixa consolidado'!B7,'Fluxo Fevereiro'!$AJ$7:$AJ$14) -> 0 | E7: =SUMIF('Fluxo Março'!$C$7:$C$14,'Fluxo de Caixa consolidado'!B7,'Fluxo Março'!$AJ$7:$AJ$14) -> 0 | F7: =SUMIF('Fluxo Abril'!$C$7:$C$14,'Fluxo de Caixa consolidado'!B7,'Fluxo Abril'!$AJ$7:$AJ$14) -> 0 | G7: =SUMIF('Fluxo Maio'!$C$7:$C$14,'Fluxo de Caixa consolidado'!B7,'Fluxo Maio'!$AJ$7:$AJ$14) -> 0 | H7: =SUMIF('Fluxo Junho'!$C$7:$C$14,'Fluxo de Caixa consolidado'!B7,'Fluxo Junho'!$AJ$7:$AJ$14) -> 0 | I7: =SUMIF('Fluxo Julho'!$C$7:$C$14,'Fluxo de Caixa consolidado'!B7,'Fluxo Julho'!$AJ$7:$AJ$14) -> 0 | J7: =SUMIF('Fluxo Agosto'!$C$7:$C$14,'Fluxo de Caixa consolidado'!B7,'Fluxo Agosto'!$AJ$7:$AJ$14) -> 0 | K7: =SUMIF('Fluxo Setembro'!$C$7:$C$14,'Fluxo de Caixa consolidado'!B7,'Fluxo Setembro'!$AJ$7:$AJ$14) -> 0 | L7: =SUMIF('Fluxo Outubro'!$C$6:$C$14,'Fluxo de Caixa consolidado'!B7,'Fluxo Outubro'!$AJ$6:$AJ$14) -> 0 | M7: =SUMIF('Fluxo Novembro'!$C$7:$C$14,'Fluxo de Caixa consolidado'!B7,'Fluxo Novembro'!$AJ$7:$AJ$14) -> 0 | N7: =SUMIF('Fluxo Dezembro'!$C$7:$C$14,'Fluxo de Caixa consolidado'!B7,'Fluxo Dezembro'!$AJ$7:$AJ$14) -> 0 | P7: =SUM(C7:N7) -> 0
B8: Faturamento pedido | C8: =SUMIF('Fluxo Janeiro'!$C$7:$C$14,'Fluxo de Caixa consolidado'!B8,'Fluxo Janeiro'!$AJ$7:$AJ$14) -> 0 | D8: =SUMIF('Fluxo Fevereiro'!$C$7:$C$14,'Fluxo de Caixa consolidado'!B8,'Fluxo Fevereiro'!$AJ$7:$AJ$14) -> 0 | E8: =SUMIF('Fluxo Março'!$C$7:$C$14,'Fluxo de Caixa consolidado'!B8,'Fluxo Março'!$AJ$7:$AJ$14) -> 0 | F8: =SUMIF('Fluxo Abril'!$C$7:$C$14,'Fluxo de Caixa consolidado'!B8,'Fluxo Abril'!$AJ$7:$AJ$14) -> 0 | G8: =SUMIF('Fluxo Maio'!$C$7:$C$14,'Fluxo de Caixa consolidado'!B8,'Fluxo Maio'!$AJ$7:$AJ$14) -> 0 | H8: =SUMIF('Fluxo Junho'!$C$7:$C$14,'Fluxo de Caixa consolidado'!B8,'Fluxo Junho'!$AJ$7:$AJ$14) -> 0 | I8: =SUMIF('Fluxo Julho'!$C$7:$C$14,'Fluxo de Caixa consolidado'!B8,'Fluxo Julho'!$AJ$7:$AJ$14) -> 0 | J8: =SUMIF('Fluxo Agosto'!$C$7:$C$14,'Fluxo de Caixa consolidado'!B8,'Fluxo Agosto'!$AJ$7:$AJ$14) -> 0 | K8: =SUMIF('Fluxo Setembro'!$C$7:$C$14,'Fluxo de Caixa consolidado'!B8,'Fluxo Setembro'!$AJ$7:$AJ$14) -> 0 | L8: =SUMIF('Fluxo Outubro'!$C$6:$C$14,'Fluxo de Caixa consolidado'!B8,'Fluxo Outubro'!$AJ$6:$AJ$14) -> 0 | M8: =SUMIF('Fluxo Novembro'!$C$7:$C$14,'Fluxo de Caixa consolidado'!B8,'Fluxo Novembro'!$AJ$7:$AJ$14) -> 0 | N8: =SUMIF('Fluxo Dezembro'!$C$7:$C$14,'Fluxo de Caixa consolidado'!B8,'Fluxo Dezembro'!$AJ$7:$AJ$14) -> 0 | P8: =SUM(C8:N8) -> 0
B9: Juros | C9: =SUMIF('Fluxo Janeiro'!$C$7:$C$14,'Fluxo de Caixa consolidado'!B9,'Fluxo Janeiro'!$AJ$7:$AJ$14) -> 0 | D9: =SUMIF('Fluxo Fevereiro'!$C$7:$C$14,'Fluxo de Caixa consolidado'!B9,'Fluxo Fevereiro'!$AJ$7:$AJ$14) -> 0 | E9: =SUMIF('Fluxo Março'!$C$7:$C$14,'Fluxo de Caixa consolidado'!B9,'Fluxo Março'!$AJ$7:$AJ$14) -> 0 | F9: =SUMIF('Fluxo Abril'!$C$7:$C$14,'Fluxo de Caixa consolidado'!B9,'Fluxo Abril'!$AJ$7:$AJ$14) -> 0 | G9: =SUMIF('Fluxo Maio'!$C$7:$C$14,'Fluxo de Caixa consolidado'!B9,'Fluxo Maio'!$AJ$7:$AJ$14) -> 0 | H9: =SUMIF('Fluxo Junho'!$C$7:$C$14,'Fluxo de Caixa consolidado'!B9,'Fluxo Junho'!$AJ$7:$AJ$14) -> 0 | I9: =SUMIF('Fluxo Julho'!$C$7:$C$14,'Fluxo de Caixa consolidado'!B9,'Fluxo Julho'!$AJ$7:$AJ$14) -> 0 | J9: =SUMIF('Fluxo Agosto'!$C$7:$C$14,'Fluxo de Caixa consolidado'!B9,'Fluxo Agosto'!$AJ$7:$AJ$14) -> 0 | K9: =SUMIF('Fluxo Setembro'!$C$7:$C$14,'Fluxo de Caixa consolidado'!B9,'Fluxo Setembro'!$AJ$7:$AJ$14) -> 0 | L9: =SUMIF('Fluxo Outubro'!$C$6:$C$14,'Fluxo de Caixa consolidado'!B9,'Fluxo Outubro'!$AJ$6:$AJ$14) -> 0 | M9: =SUMIF('Fluxo Novembro'!$C$7:$C$14,'Fluxo de Caixa consolidado'!B9,'Fluxo Novembro'!$AJ$7:$AJ$14) -> 0 | N9: =SUMIF('Fluxo Dezembro'!$C$7:$C$14,'Fluxo de Caixa consolidado'!B9,'Fluxo Dezembro'!$AJ$7:$AJ$14) -> 0 | P9: =SUM(C9:N9) -> 0
B10: Ajuste receita +- | C10: =SUMIF('Fluxo Janeiro'!$C$7:$C$14,'Fluxo de Caixa consolidado'!B10,'Fluxo Janeiro'!$AJ$7:$AJ$14) -> 0 | D10: =SUMIF('Fluxo Fevereiro'!$C$7:$C$14,'Fluxo de Caixa consolidado'!B10,'Fluxo Fevereiro'!$AJ$7:$AJ$14) -> 0 | E10: =SUMIF('Fluxo Março'!$C$7:$C$14,'Fluxo de Caixa consolidado'!B10,'Fluxo Março'!$AJ$7:$AJ$14) -> 0 | F10: =SUMIF('Fluxo Abril'!$C$7:$C$14,'Fluxo de Caixa consolidado'!B10,'Fluxo Abril'!$AJ$7:$AJ$14) -> 0 | G10: =SUMIF('Fluxo Maio'!$C$7:$C$14,'Fluxo de Caixa consolidado'!B10,'Fluxo Maio'!$AJ$7:$AJ$14) -> 0 | H10: =SUMIF('Fluxo Junho'!$C$7:$C$14,'Fluxo de Caixa consolidado'!B10,'Fluxo Junho'!$AJ$7:$AJ$14) -> 0 | I10: =SUMIF('Fluxo Julho'!$C$7:$C$14,'Fluxo de Caixa consolidado'!B10,'Fluxo Julho'!$AJ$7:$AJ$14) -> 0 | J10: =SUMIF('Fluxo Agosto'!$C$7:$C$14,'Fluxo de Caixa consolidado'!B10,'Fluxo Agosto'!$AJ$7:$AJ$14) -> 0 | K10: =SUMIF('Fluxo Setembro'!$C$7:$C$14,'Fluxo de Caixa consolidado'!B10,'Fluxo Setembro'!$AJ$7:$AJ$14) -> 0 | L10: =SUMIF('Fluxo Outubro'!$C$6:$C$14,'Fluxo de Caixa consolidado'!B10,'Fluxo Outubro'!$AJ$6:$AJ$14) -> 0 | M10: =SUMIF('Fluxo Novembro'!$C$7:$C$14,'Fluxo de Caixa consolidado'!B10,'Fluxo Novembro'!$AJ$7:$AJ$14) -> 0 | N10: =SUMIF('Fluxo Dezembro'!$C$7:$C$14,'Fluxo de Caixa consolidado'!B10,'Fluxo Dezembro'!$AJ$7:$AJ$14) -> 0 | P10: =SUM(C10:N10) -> 0
C11: =SUMIF('Fluxo Janeiro'!$C$7:$C$14,'Fluxo de Caixa consolidado'!B11,'Fluxo Janeiro'!$AJ$7:$AJ$14) -> 0 | D11: =SUMIF('Fluxo Fevereiro'!$C$7:$C$14,'Fluxo de Caixa consolidado'!B11,'Fluxo Fevereiro'!$AJ$7:$AJ$14) -> 0 | E11: =SUMIF('Fluxo Março'!$C$7:$C$14,'Fluxo de Caixa consolidado'!B11,'Fluxo Março'!$AJ$7:$AJ$14) -> 0 | F11: =SUMIF('Fluxo Abril'!$C$7:$C$14,'Fluxo de Caixa consolidado'!B11,'Fluxo Abril'!$AJ$7:$AJ$14) -> 0 | G11: =SUMIF('Fluxo Maio'!$C$7:$C$14,'Fluxo de Caixa consolidado'!B11,'Fluxo Maio'!$AJ$7:$AJ$14) -> 0 | H11: =SUMIF('Fluxo Junho'!$C$7:$C$14,'Fluxo de Caixa consolidado'!B11,'Fluxo Junho'!$AJ$7:$AJ$14) -> 0 | I11: =SUMIF('Fluxo Julho'!$C$7:$C$14,'Fluxo de Caixa consolidado'!B11,'Fluxo Julho'!$AJ$7:$AJ$14) -> 0 | J11: =SUMIF('Fluxo Agosto'!$C$7:$C$14,'Fluxo de Caixa consolidado'!B11,'Fluxo Agosto'!$AJ$7:$AJ$14) -> 0 | K11: =SUMIF('Fluxo Setembro'!$C$7:$C$14,'Fluxo de Caixa consolidado'!B11,'Fluxo Setembro'!$AJ$7:$AJ$14) -> 0 | L11: =SUMIF('Fluxo Outubro'!$C$6:$C$14,'Fluxo de Caixa consolidado'!B11,'Fluxo Outubro'!$AJ$6:$AJ$14) -> 0 | M11: =SUMIF('Fluxo Novembro'!$C$7:$C$14,'Fluxo de Caixa consolidado'!B11,'Fluxo Novembro'!$AJ$7:$AJ$14) -> 0 | N11: =SUMIF('Fluxo Dezembro'!$C$7:$C$14,'Fluxo de Caixa consolidado'!B11,'Fluxo Dezembro'!$AJ$7:$AJ$14) -> 0 | P11: =SUM(C11:N11) -> 0
C12: =SUMIF('Fluxo Janeiro'!$C$7:$C$14,'Fluxo de Caixa consolidado'!B12,'Fluxo Janeiro'!$AJ$7:$AJ$14) -> 0 | D12: =SUMIF('Fluxo Fevereiro'!$C$7:$C$14,'Fluxo de Caixa consolidado'!B12,'Fluxo Fevereiro'!$AJ$7:$AJ$14) -> 0 | E12: =SUMIF('Fluxo Março'!$C$7:$C$14,'Fluxo de Caixa consolidado'!B12,'Fluxo Março'!$AJ$7:$AJ$14) -> 0 | F12: =SUMIF('Fluxo Abril'!$C$7:$C$14,'Fluxo de Caixa consolidado'!B12,'Fluxo Abril'!$AJ$7:$AJ$14) -> 0 | G12: =SUMIF('Fluxo Maio'!$C$7:$C$14,'Fluxo de Caixa consolidado'!B12,'Fluxo Maio'!$AJ$7:$AJ$14) -> 0 | H12: =SUMIF('Fluxo Junho'!$C$7:$C$14,'Fluxo de Caixa consolidado'!B12,'Fluxo Junho'!$AJ$7:$AJ$14) -> 0 | I12: =SUMIF('Fluxo Julho'!$C$7:$C$14,'Fluxo de Caixa consolidado'!B12,'Fluxo Julho'!$AJ$7:$AJ$14) -> 0 | J12: =SUMIF('Fluxo Agosto'!$C$7:$C$14,'Fluxo de Caixa consolidado'!B12,'Fluxo Agosto'!$AJ$7:$AJ$14) -> 0 | K12: =SUMIF('Fluxo Setembro'!$C$7:$C$14,'Fluxo de Caixa consolidado'!B12,'Fluxo Setembro'!$AJ$7:$AJ$14) -> 0 | L12: =SUMIF('Fluxo Outubro'!$C$6:$C$14,'Fluxo de Caixa consolidado'!B12,'Fluxo Outubro'!$AJ$6:$AJ$14) -> 0 | M12: =SUMIF('Fluxo Novembro'!$C$7:$C$14,'Fluxo de Caixa consolidado'!B12,'Fluxo Novembro'!$AJ$7:$AJ$14) -> 0 | N12: =SUMIF('Fluxo Dezembro'!$C$7:$C$14,'Fluxo de Caixa consolidado'!B12,'Fluxo Dezembro'!$AJ$7:$AJ$14) -> 0 | P12: =SUM(C12:N12) -> 0
C13: =SUMIF('Fluxo Janeiro'!$C$7:$C$15,'Fluxo de Caixa consolidado'!B13,'Fluxo Janeiro'!$AJ$7:$AJ$15) -> 0 | D13: =SUMIF('Fluxo Fevereiro'!$C$7:$C$15,'Fluxo de Caixa consolidado'!B13,'Fluxo Fevereiro'!$AJ$7:$AJ$15) -> 0 | E13: =SUMIF('Fluxo Março'!$C$7:$C$15,'Fluxo de Caixa consolidado'!B13,'Fluxo Março'!$AJ$7:$AJ$15) -> 0 | F13: =SUMIF('Fluxo Abril'!$C$7:$C$15,'Fluxo de Caixa consolidado'!B13,'Fluxo Abril'!$AJ$7:$AJ$15) -> 0 | G13: =SUMIF('Fluxo Maio'!$C$7:$C$15,'Fluxo de Caixa consolidado'!B13,'Fluxo Maio'!$AJ$7:$AJ$15) -> 0 | H13: =SUMIF('Fluxo Junho'!$C$7:$C$15,'Fluxo de Caixa consolidado'!B13,'Fluxo Junho'!$AJ$7:$AJ$15) -> 0 | I13: =SUMIF('Fluxo Julho'!$C$7:$C$15,'Fluxo de Caixa consolidado'!B13,'Fluxo Julho'!$AJ$7:$AJ$15) -> 0 | J13: =SUMIF('Fluxo Agosto'!$C$7:$C$15,'Fluxo de Caixa consolidado'!B13,'Fluxo Agosto'!$AJ$7:$AJ$15) -> 0 | K13: =SUMIF('Fluxo Setembro'!$C$7:$C$15,'Fluxo de Caixa consolidado'!B13,'Fluxo Setembro'!$AJ$7:$AJ$15) -> 0 | L13: =SUMIF('Fluxo Outubro'!$C$6:$C$14,'Fluxo de Caixa consolidado'!B13,'Fluxo Outubro'!$AJ$6:$AJ$14) -> 0 | M13: =SUMIF('Fluxo Novembro'!$C$7:$C$15,'Fluxo de Caixa consolidado'!B13,'Fluxo Novembro'!$AJ$7:$AJ$15) -> 0 | N13: =SUMIF('Fluxo Dezembro'!$C$7:$C$15,'Fluxo de Caixa consolidado'!B13,'Fluxo Dezembro'!$AJ$7:$AJ$15) -> 0 | P13: =SUM(C13:N13) -> 0
B14: TOTAL DAS ENTRADAS | C14: =SUM(C5:C13) -> 0 | D14: =SUM(D5:D13) -> 0 | E14: =SUM(E5:E13) -> 0 | F14: =SUM(F5:F13) -> 0 | G14: =SUM(G5:G13) -> 0 | H14: =SUM(H5:H13) -> 0 | I14: =SUM(I5:I13) -> 0 | J14: =SUM(J5:J13) -> 0 | ... N14: =SUM(N5:N13) -> 0 | P14: =SUM(C14:N14) -> 0
B16: SAÍDAS | P16: SAÍDAS
C17: =SUMIF('Fluxo Janeiro'!$C$18:$C$74,'Fluxo de Caixa consolidado'!B17,'Fluxo Janeiro'!$AJ$18:$AJ$74) -> 0 | D17: =SUMIF('Fluxo Fevereiro'!$C$18:$C$74,'Fluxo de Caixa consolidado'!B17,'Fluxo Fevereiro'!$AJ$18:$AJ$74) -> 0 | E17: =SUMIF('Fluxo Março'!$C$18:$C$74,'Fluxo de Caixa consolidado'!B17,'Fluxo Março'!$AJ$18:$AJ$74) -> 0 | F17: =SUMIF('Fluxo Abril'!$C$18:$C$74,'Fluxo de Caixa consolidado'!B17,'Fluxo Abril'!$AJ$18:$AJ$74) -> 0 | G17: =SUMIF('Fluxo Maio'!$C$18:$C$74,'Fluxo de Caixa consolidado'!B17,'Fluxo Maio'!$AJ$18:$AJ$74) -> 0 | H17: =SUMIF('Fluxo Junho'!$C$18:$C$74,'Fluxo de Caixa consolidado'!B17,'Fluxo Junho'!$AJ$18:$AJ$74) -> 0 | I17: =SUMIF('Fluxo Julho'!$C$18:$C$74,'Fluxo de Caixa consolidado'!B17,'Fluxo Julho'!$AJ$18:$AJ$74) -> 0 | J17: =SUMIF('Fluxo Agosto'!$C$18:$C$74,'Fluxo de Caixa consolidado'!B17,'Fluxo Agosto'!$AJ$18:$AJ$74) -> 0 | K17: =SUMIF('Fluxo Setembro'!$C$18:$C$74,'Fluxo de Caixa consolidado'!B17,'Fluxo Setembro'!$AJ$18:$AJ$74) -> 0 | L17: =SUMIF('Fluxo Outubro'!$C$17:$C$74,'Fluxo de Caixa consolidado'!B17,'Fluxo Outubro'!$AJ$17:$AJ$74) -> 0 | M17: =SUMIF('Fluxo Novembro'!$C$18:$C$74,'Fluxo de Caixa consolidado'!B17,'Fluxo Novembro'!$AJ$18:$AJ$74) -> 0 | N17: =SUMIF('Fluxo Dezembro'!$C$18:$C$74,'Fluxo de Caixa consolidado'!B17,'Fluxo Dezembro'!$AJ$18:$AJ$74) -> 0 | P17: =SUM(C17:N17) -> 0
B18: Contbilidade | C18: =SUMIF('Fluxo Janeiro'!$C$18:$C$74,'Fluxo de Caixa consolidado'!B18,'Fluxo Janeiro'!$AJ$18:$AJ$74) -> 0 | D18: =SUMIF('Fluxo Fevereiro'!$C$18:$C$74,'Fluxo de Caixa consolidado'!B18,'Fluxo Fevereiro'!$AJ$18:$AJ$74) -> 0 | E18: =SUMIF('Fluxo Março'!$C$18:$C$74,'Fluxo de Caixa consolidado'!B18,'Fluxo Março'!$AJ$18:$AJ$74) -> 0 | F18: =SUMIF('Fluxo Abril'!$C$18:$C$74,'Fluxo de Caixa consolidado'!B18,'Fluxo Abril'!$AJ$18:$AJ$74) -> 0 | G18: =SUMIF('Fluxo Maio'!$C$18:$C$74,'Fluxo de Caixa consolidado'!B18,'Fluxo Maio'!$AJ$18:$AJ$74) -> 0 | H18: =SUMIF('Fluxo Junho'!$C$18:$C$74,'Fluxo de Caixa consolidado'!B18,'Fluxo Junho'!$AJ$18:$AJ$74) -> 0 | I18: =SUMIF('Fluxo Julho'!$C$18:$C$74,'Fluxo de Caixa consolidado'!B18,'Fluxo Julho'!$AJ$18:$AJ$74) -> 0 | J18: =SUMIF('Fluxo Agosto'!$C$18:$C$74,'Fluxo de Caixa consolidado'!B18,'Fluxo Agosto'!$AJ$18:$AJ$74) -> 0 | K18: =SUMIF('Fluxo Setembro'!$C$18:$C$74,'Fluxo de Caixa consolidado'!B18,'Fluxo Setembro'!$AJ$18:$AJ$74) -> 0 | L18: =SUMIF('Fluxo Outubro'!$C$17:$C$74,'Fluxo de Caixa consolidado'!B18,'Fluxo Outubro'!$AJ$17:$AJ$74) -> 0 | M18: =SUMIF('Fluxo Novembro'!$C$18:$C$74,'Fluxo de Caixa consolidado'!B18,'Fluxo Novembro'!$AJ$18:$AJ$74) -> 0 | N18: =SUMIF('Fluxo Dezembro'!$C$18:$C$74,'Fluxo de Caixa consolidado'!B18,'Fluxo Dezembro'!$AJ$18:$AJ$74) -> 0 | P18: =SUM(C18:N18) -> 0
B19: Telefonia | C19: =SUMIF('Fluxo Janeiro'!$C$18:$C$74,'Fluxo de Caixa consolidado'!B19,'Fluxo Janeiro'!$AJ$18:$AJ$74) -> 0 | D19: =SUMIF('Fluxo Fevereiro'!$C$18:$C$74,'Fluxo de Caixa consolidado'!B19,'Fluxo Fevereiro'!$AJ$18:$AJ$74) -> 0 | E19: =SUMIF('Fluxo Março'!$C$18:$C$74,'Fluxo de Caixa consolidado'!B19,'Fluxo Março'!$AJ$18:$AJ$74) -> 0 | F19: =SUMIF('Fluxo Abril'!$C$18:$C$74,'Fluxo de Caixa consolidado'!B19,'Fluxo Abril'!$AJ$18:$AJ$74) -> 0 | G19: =SUMIF('Fluxo Maio'!$C$18:$C$74,'Fluxo de Caixa consolidado'!B19,'Fluxo Maio'!$AJ$18:$AJ$74) -> 0 | H19: =SUMIF('Fluxo Junho'!$C$18:$C$74,'Fluxo de Caixa consolidado'!B19,'Fluxo Junho'!$AJ$18:$AJ$74) -> 0 | I19: =SUMIF('Fluxo Julho'!$C$18:$C$74,'Fluxo de Caixa consolidado'!B19,'Fluxo Julho'!$AJ$18:$AJ$74) -> 0 | J19: =SUMIF('Fluxo Agosto'!$C$18:$C$74,'Fluxo de Caixa consolidado'!B19,'Fluxo Agosto'!$AJ$18:$AJ$74) -> 0 | K19: =SUMIF('Fluxo Setembro'!$C$18:$C$74,'Fluxo de Caixa consolidado'!B19,'Fluxo Setembro'!$AJ$18:$AJ$74) -> 0 | L19: =SUMIF('Fluxo Outubro'!$C$17:$C$74,'Fluxo de Caixa consolidado'!B19,'Fluxo Outubro'!$AJ$17:$AJ$74) -> 0 | M19: =SUMIF('Fluxo Novembro'!$C$18:$C$74,'Fluxo de Caixa consolidado'!B19,'Fluxo Novembro'!$AJ$18:$AJ$74) -> 0 | N19: =SUMIF('Fluxo Dezembro'!$C$18:$C$74,'Fluxo de Caixa consolidado'!B19,'Fluxo Dezembro'!$AJ$18:$AJ$74) -> 0 | P19: =SUM(C19:N19) -> 0
B20: Sistema | C20: =SUMIF('Fluxo Janeiro'!$C$18:$C$74,'Fluxo de Caixa consolidado'!B20,'Fluxo Janeiro'!$AJ$18:$AJ$74) -> 0 | D20: =SUMIF('Fluxo Fevereiro'!$C$18:$C$74,'Fluxo de Caixa consolidado'!B20,'Fluxo Fevereiro'!$AJ$18:$AJ$74) -> 0 | E20: =SUMIF('Fluxo Março'!$C$18:$C$74,'Fluxo de Caixa consolidado'!B20,'Fluxo Março'!$AJ$18:$AJ$74) -> 0 | F20: =SUMIF('Fluxo Abril'!$C$18:$C$74,'Fluxo de Caixa consolidado'!B20,'Fluxo Abril'!$AJ$18:$AJ$74) -> 0 | G20: =SUMIF('Fluxo Maio'!$C$18:$C$74,'Fluxo de Caixa consolidado'!B20,'Fluxo Maio'!$AJ$18:$AJ$74) -> 0 | H20: =SUMIF('Fluxo Junho'!$C$18:$C$74,'Fluxo de Caixa consolidado'!B20,'Fluxo Junho'!$AJ$18:$AJ$74) -> 0 | I20: =SUMIF('Fluxo Julho'!$C$18:$C$74,'Fluxo de Caixa consolidado'!B20,'Fluxo Julho'!$AJ$18:$AJ$74) -> 0 | J20: =SUMIF('Fluxo Agosto'!$C$18:$C$74,'Fluxo de Caixa consolidado'!B20,'Fluxo Agosto'!$AJ$18:$AJ$74) -> 0 | K20: =SUMIF('Fluxo Setembro'!$C$18:$C$74,'Fluxo de Caixa consolidado'!B20,'Fluxo Setembro'!$AJ$18:$AJ$74) -> 0 | L20: =SUMIF('Fluxo Outubro'!$C$17:$C$74,'Fluxo de Caixa consolidado'!B20,'Fluxo Outubro'!$AJ$17:$AJ$74) -> 0 | M20: =SUMIF('Fluxo Novembro'!$C$18:$C$74,'Fluxo de Caixa consolidado'!B20,'Fluxo Novembro'!$AJ$18:$AJ$74) -> 0 | N20: =SUMIF('Fluxo Dezembro'!$C$18:$C$74,'Fluxo de Caixa consolidado'!B20,'Fluxo Dezembro'!$AJ$18:$AJ$74) -> 0 | P20: =SUM(C20:N20) -> 0
C21: =SUMIF('Fluxo Janeiro'!$C$18:$C$74,'Fluxo de Caixa consolidado'!B21,'Fluxo Janeiro'!$AJ$18:$AJ$74) -> 0 | D21: =SUMIF('Fluxo Fevereiro'!$C$18:$C$74,'Fluxo de Caixa consolidado'!B21,'Fluxo Fevereiro'!$AJ$18:$AJ$74) -> 0 | E21: =SUMIF('Fluxo Março'!$C$18:$C$74,'Fluxo de Caixa consolidado'!B21,'Fluxo Março'!$AJ$18:$AJ$74) -> 0 | F21: =SUMIF('Fluxo Abril'!$C$18:$C$74,'Fluxo de Caixa consolidado'!B21,'Fluxo Abril'!$AJ$18:$AJ$74) -> 0 | G21: =SUMIF('Fluxo Maio'!$C$18:$C$74,'Fluxo de Caixa consolidado'!B21,'Fluxo Maio'!$AJ$18:$AJ$74) -> 0 | H21: =SUMIF('Fluxo Junho'!$C$18:$C$74,'Fluxo de Caixa consolidado'!B21,'Fluxo Junho'!$AJ$18:$AJ$74) -> 0 | I21: =SUMIF('Fluxo Julho'!$C$18:$C$74,'Fluxo de Caixa consolidado'!B21,'Fluxo Julho'!$AJ$18:$AJ$74) -> 0 | J21: =SUMIF('Fluxo Agosto'!$C$18:$C$74,'Fluxo de Caixa consolidado'!B21,'Fluxo Agosto'!$AJ$18:$AJ$74) -> 0 | K21: =SUMIF('Fluxo Setembro'!$C$18:$C$74,'Fluxo de Caixa consolidado'!B21,'Fluxo Setembro'!$AJ$18:$AJ$74) -> 0 | L21: =SUMIF('Fluxo Outubro'!$C$17:$C$74,'Fluxo de Caixa consolidado'!B21,'Fluxo Outubro'!$AJ$17:$AJ$74) -> 0 | M21: =SUMIF('Fluxo Novembro'!$C$18:$C$74,'Fluxo de Caixa consolidado'!B21,'Fluxo Novembro'!$AJ$18:$AJ$74) -> 0 | N21: =SUMIF('Fluxo Dezembro'!$C$18:$C$74,'Fluxo de Caixa consolidado'!B21,'Fluxo Dezembro'!$AJ$18:$AJ$74) -> 0 | P21: =SUM(C21:N21) -> 0
C22: =SUMIF('Fluxo Janeiro'!$C$18:$C$74,'Fluxo de Caixa consolidado'!B22,'Fluxo Janeiro'!$AJ$18:$AJ$74) -> 0 | D22: =SUMIF('Fluxo Fevereiro'!$C$18:$C$74,'Fluxo de Caixa consolidado'!B22,'Fluxo Fevereiro'!$AJ$18:$AJ$74) -> 0 | E22: =SUMIF('Fluxo Março'!$C$18:$C$74,'Fluxo de Caixa consolidado'!B22,'Fluxo Março'!$AJ$18:$AJ$74) -> 0 | F22: =SUMIF('Fluxo Abril'!$C$18:$C$74,'Fluxo de Caixa consolidado'!B22,'Fluxo Abril'!$AJ$18:$AJ$74) -> 0 | G22: =SUMIF('Fluxo Maio'!$C$18:$C$74,'Fluxo de Caixa consolidado'!B22,'Fluxo Maio'!$AJ$18:$AJ$74) -> 0 | H22: =SUMIF('Fluxo Junho'!$C$18:$C$74,'Fluxo de Caixa consolidado'!B22,'Fluxo Junho'!$AJ$18:$AJ$74) -> 0 | I22: =SUMIF('Fluxo Julho'!$C$18:$C$74,'Fluxo de Caixa consolidado'!B22,'Fluxo Julho'!$AJ$18:$AJ$74) -> 0 | J22: =SUMIF('Fluxo Agosto'!$C$18:$C$74,'Fluxo de Caixa consolidado'!B22,'Fluxo Agosto'!$AJ$18:$AJ$74) -> 0 | K22: =SUMIF('Fluxo Setembro'!$C$18:$C$74,'Fluxo de Caixa consolidado'!B22,'Fluxo Setembro'!$AJ$18:$AJ$74) -> 0 | L22: =SUMIF('Fluxo Outubro'!$C$17:$C$74,'Fluxo de Caixa consolidado'!B22,'Fluxo Outubro'!$AJ$17:$AJ$74) -> 0 | M22: =SUMIF('Fluxo Novembro'!$C$18:$C$74,'Fluxo de Caixa consolidado'!B22,'Fluxo Novembro'!$AJ$18:$AJ$74) -> 0 | N22: =SUMIF('Fluxo Dezembro'!$C$18:$C$74,'Fluxo de Caixa consolidado'!B22,'Fluxo Dezembro'!$AJ$18:$AJ$74) -> 0 | P22: =SUM(C22:N22) -> 0
C23: =SUMIF('Fluxo Janeiro'!$C$18:$C$74,'Fluxo de Caixa consolidado'!B23,'Fluxo Janeiro'!$AJ$18:$AJ$74) -> 0 | D23: =SUMIF('Fluxo Fevereiro'!$C$18:$C$74,'Fluxo de Caixa consolidado'!B23,'Fluxo Fevereiro'!$AJ$18:$AJ$74) -> 0 | E23: =SUMIF('Fluxo Março'!$C$18:$C$74,'Fluxo de Caixa consolidado'!B23,'Fluxo Março'!$AJ$18:$AJ$74) -> 0 | F23: =SUMIF('Fluxo Abril'!$C$18:$C$74,'Fluxo de Caixa consolidado'!B23,'Fluxo Abril'!$AJ$18:$AJ$74) -> 0 | G23: =SUMIF('Fluxo Maio'!$C$18:$C$74,'Fluxo de Caixa consolidado'!B23,'Fluxo Maio'!$AJ$18:$AJ$74) -> 0 | H23: =SUMIF('Fluxo Junho'!$C$18:$C$74,'Fluxo de Caixa consolidado'!B23,'Fluxo Junho'!$AJ$18:$AJ$74) -> 0 | I23: =SUMIF('Fluxo Julho'!$C$18:$C$74,'Fluxo de Caixa consolidado'!B23,'Fluxo Julho'!$AJ$18:$AJ$74) -> 0 | J23: =SUMIF('Fluxo Agosto'!$C$18:$C$74,'Fluxo de Caixa consolidado'!B23,'Fluxo Agosto'!$AJ$18:$AJ$74) -> 0 | K23: =SUMIF('Fluxo Setembro'!$C$18:$C$74,'Fluxo de Caixa consolidado'!B23,'Fluxo Setembro'!$AJ$18:$AJ$74) -> 0 | L23: =SUMIF('Fluxo Outubro'!$C$17:$C$74,'Fluxo de Caixa consolidado'!B23,'Fluxo Outubro'!$AJ$17:$AJ$74) -> 0 | M23: =SUMIF('Fluxo Novembro'!$C$18:$C$74,'Fluxo de Caixa consolidado'!B23,'Fluxo Novembro'!$AJ$18:$AJ$74) -> 0 | N23: =SUMIF('Fluxo Dezembro'!$C$18:$C$74,'Fluxo de Caixa consolidado'!B23,'Fluxo Dezembro'!$AJ$18:$AJ$74) -> 0 | P23: =SUM(C23:N23) -> 0
C24: =SUMIF('Fluxo Janeiro'!$C$18:$C$74,'Fluxo de Caixa consolidado'!B24,'Fluxo Janeiro'!$AJ$18:$AJ$74) -> 0 | D24: =SUMIF('Fluxo Fevereiro'!$C$18:$C$74,'Fluxo de Caixa consolidado'!B24,'Fluxo Fevereiro'!$AJ$18:$AJ$74) -> 0 | E24: =SUMIF('Fluxo Março'!$C$18:$C$74,'Fluxo de Caixa consolidado'!B24,'Fluxo Março'!$AJ$18:$AJ$74) -> 0 | F24: =SUMIF('Fluxo Abril'!$C$18:$C$74,'Fluxo de Caixa consolidado'!B24,'Fluxo Abril'!$AJ$18:$AJ$74) -> 0 | G24: =SUMIF('Fluxo Maio'!$C$18:$C$74,'Fluxo de Caixa consolidado'!B24,'Fluxo Maio'!$AJ$18:$AJ$74) -> 0 | H24: =SUMIF('Fluxo Junho'!$C$18:$C$74,'Fluxo de Caixa consolidado'!B24,'Fluxo Junho'!$AJ$18:$AJ$74) -> 0 | I24: =SUMIF('Fluxo Julho'!$C$18:$C$74,'Fluxo de Caixa consolidado'!B24,'Fluxo Julho'!$AJ$18:$AJ$74) -> 0 | J24: =SUMIF('Fluxo Agosto'!$C$18:$C$74,'Fluxo de Caixa consolidado'!B24,'Fluxo Agosto'!$AJ$18:$AJ$74) -> 0 | K24: =SUMIF('Fluxo Setembro'!$C$18:$C$74,'Fluxo de Caixa consolidado'!B24,'Fluxo Setembro'!$AJ$18:$AJ$74) -> 0 | L24: =SUMIF('Fluxo Outubro'!$C$17:$C$74,'Fluxo de Caixa consolidado'!B24,'Fluxo Outubro'!$AJ$17:$AJ$74) -> 0 | M24: =SUMIF('Fluxo Novembro'!$C$18:$C$74,'Fluxo de Caixa consolidado'!B24,'Fluxo Novembro'!$AJ$18:$AJ$74) -> 0 | N24: =SUMIF('Fluxo Dezembro'!$C$18:$C$74,'Fluxo de Caixa consolidado'!B24,'Fluxo Dezembro'!$AJ$18:$AJ$74) -> 0 | P24: =SUM(C24:N24) -> 0
C25: =SUMIF('Fluxo Janeiro'!$C$18:$C$74,'Fluxo de Caixa consolidado'!B25,'Fluxo Janeiro'!$AJ$18:$AJ$74) -> 0 | D25: =SUMIF('Fluxo Fevereiro'!$C$18:$C$74,'Fluxo de Caixa consolidado'!B25,'Fluxo Fevereiro'!$AJ$18:$AJ$74) -> 0 | E25: =SUMIF('Fluxo Março'!$C$18:$C$74,'Fluxo de Caixa consolidado'!B25,'Fluxo Março'!$AJ$18:$AJ$74) -> 0 | F25: =SUMIF('Fluxo Abril'!$C$18:$C$74,'Fluxo de Caixa consolidado'!B25,'Fluxo Abril'!$AJ$18:$AJ$74) -> 0 | G25: =SUMIF('Fluxo Maio'!$C$18:$C$74,'Fluxo de Caixa consolidado'!B25,'Fluxo Maio'!$AJ$18:$AJ$74) -> 0 | H25: =SUMIF('Fluxo Junho'!$C$18:$C$74,'Fluxo de Caixa consolidado'!B25,'Fluxo Junho'!$AJ$18:$AJ$74) -> 0 | I25: =SUMIF('Fluxo Julho'!$C$18:$C$74,'Fluxo de Caixa consolidado'!B25,'Fluxo Julho'!$AJ$18:$AJ$74) -> 0 | J25: =SUMIF('Fluxo Agosto'!$C$18:$C$74,'Fluxo de Caixa consolidado'!B25,'Fluxo Agosto'!$AJ$18:$AJ$74) -> 0 | K25: =SUMIF('Fluxo Setembro'!$C$18:$C$74,'Fluxo de Caixa consolidado'!B25,'Fluxo Setembro'!$AJ$18:$AJ$74) -> 0 | L25: =SUMIF('Fluxo Outubro'!$C$17:$C$74,'Fluxo de Caixa consolidado'!B25,'Fluxo Outubro'!$AJ$17:$AJ$74) -> 0 | M25: =SUMIF('Fluxo Novembro'!$C$18:$C$74,'Fluxo de Caixa consolidado'!B25,'Fluxo Novembro'!$AJ$18:$AJ$74) -> 0 | N25: =SUMIF('Fluxo Dezembro'!$C$18:$C$74,'Fluxo de Caixa consolidado'!B25,'Fluxo Dezembro'!$AJ$18:$AJ$74) -> 0 | P25: =SUM(C25:N25) -> 0
C26: =SUMIF('Fluxo Janeiro'!$C$18:$C$74,'Fluxo de Caixa consolidado'!B26,'Fluxo Janeiro'!$AJ$18:$AJ$74) -> 0 | D26: =SUMIF('Fluxo Fevereiro'!$C$18:$C$74,'Fluxo de Caixa consolidado'!B26,'Fluxo Fevereiro'!$AJ$18:$AJ$74) -> 0 | E26: =SUMIF('Fluxo Março'!$C$18:$C$74,'Fluxo de Caixa consolidado'!B26,'Fluxo Março'!$AJ$18:$AJ$74) -> 0 | F26: =SUMIF('Fluxo Abril'!$C$18:$C$74,'Fluxo de Caixa consolidado'!B26,'Fluxo Abril'!$AJ$18:$AJ$74) -> 0 | G26: =SUMIF('Fluxo Maio'!$C$18:$C$74,'Fluxo de Caixa consolidado'!B26,'Fluxo Maio'!$AJ$18:$AJ$74) -> 0 | H26: =SUMIF('Fluxo Junho'!$C$18:$C$74,'Fluxo de Caixa consolidado'!B26,'Fluxo Junho'!$AJ$18:$AJ$74) -> 0 | I26: =SUMIF('Fluxo Julho'!$C$18:$C$74,'Fluxo de Caixa consolidado'!B26,'Fluxo Julho'!$AJ$18:$AJ$74) -> 0 | J26: =SUMIF('Fluxo Agosto'!$C$18:$C$74,'Fluxo de Caixa consolidado'!B26,'Fluxo Agosto'!$AJ$18:$AJ$74) -> 0 | K26: =SUMIF('Fluxo Setembro'!$C$18:$C$74,'Fluxo de Caixa consolidado'!B26,'Fluxo Setembro'!$AJ$18:$AJ$74) -> 0 | L26: =SUMIF('Fluxo Outubro'!$C$17:$C$74,'Fluxo de Caixa consolidado'!B26,'Fluxo Outubro'!$AJ$17:$AJ$74) -> 0 | M26: =SUMIF('Fluxo Novembro'!$C$18:$C$74,'Fluxo de Caixa consolidado'!B26,'Fluxo Novembro'!$AJ$18:$AJ$74) -> 0 | N26: =SUMIF('Fluxo Dezembro'!$C$18:$C$74,'Fluxo de Caixa consolidado'!B26,'Fluxo Dezembro'!$AJ$18:$AJ$74) -> 0 | P26: =SUM(C26:N26) -> 0
C27: =SUMIF('Fluxo Janeiro'!$C$18:$C$74,'Fluxo de Caixa consolidado'!B27,'Fluxo Janeiro'!$AJ$18:$AJ$74) -> 0 | D27: =SUMIF('Fluxo Fevereiro'!$C$18:$C$74,'Fluxo de Caixa consolidado'!B27,'Fluxo Fevereiro'!$AJ$18:$AJ$74) -> 0 | E27: =SUMIF('Fluxo Março'!$C$18:$C$74,'Fluxo de Caixa consolidado'!B27,'Fluxo Março'!$AJ$18:$AJ$74) -> 0 | F27: =SUMIF('Fluxo Abril'!$C$18:$C$74,'Fluxo de Caixa consolidado'!B27,'Fluxo Abril'!$AJ$18:$AJ$74) -> 0 | G27: =SUMIF('Fluxo Maio'!$C$18:$C$74,'Fluxo de Caixa consolidado'!B27,'Fluxo Maio'!$AJ$18:$AJ$74) -> 0 | H27: =SUMIF('Fluxo Junho'!$C$18:$C$74,'Fluxo de Caixa consolidado'!B27,'Fluxo Junho'!$AJ$18:$AJ$74) -> 0 | I27: =SUMIF('Fluxo Julho'!$C$18:$C$74,'Fluxo de Caixa consolidado'!B27,'Fluxo Julho'!$AJ$18:$AJ$74) -> 0 | J27: =SUMIF('Fluxo Agosto'!$C$18:$C$74,'Fluxo de Caixa consolidado'!B27,'Fluxo Agosto'!$AJ$18:$AJ$74) -> 0 | K27: =SUMIF('Fluxo Setembro'!$C$18:$C$74,'Fluxo de Caixa consolidado'!B27,'Fluxo Setembro'!$AJ$18:$AJ$74) -> 0 | L27: =SUMIF('Fluxo Outubro'!$C$17:$C$74,'Fluxo de Caixa consolidado'!B27,'Fluxo Outubro'!$AJ$17:$AJ$74) -> 0 | M27: =SUMIF('Fluxo Novembro'!$C$18:$C$74,'Fluxo de Caixa consolidado'!B27,'Fluxo Novembro'!$AJ$18:$AJ$74) -> 0 | N27: =SUMIF('Fluxo Dezembro'!$C$18:$C$74,'Fluxo de Caixa consolidado'!B27,'Fluxo Dezembro'!$AJ$18:$AJ$74) -> 0 | P27: =SUM(C27:N27) -> 0
C28: =SUMIF('Fluxo Janeiro'!$C$18:$C$74,'Fluxo de Caixa consolidado'!B28,'Fluxo Janeiro'!$AJ$18:$AJ$74) -> 0 | D28: =SUMIF('Fluxo Fevereiro'!$C$18:$C$74,'Fluxo de Caixa consolidado'!B28,'Fluxo Fevereiro'!$AJ$18:$AJ$74) -> 0 | E28: =SUMIF('Fluxo Março'!$C$18:$C$74,'Fluxo de Caixa consolidado'!B28,'Fluxo Março'!$AJ$18:$AJ$74) -> 0 | F28: =SUMIF('Fluxo Abril'!$C$18:$C$74,'Fluxo de Caixa consolidado'!B28,'Fluxo Abril'!$AJ$18:$AJ$74) -> 0 | G28: =SUMIF('Fluxo Maio'!$C$18:$C$74,'Fluxo de Caixa consolidado'!B28,'Fluxo Maio'!$AJ$18:$AJ$74) -> 0 | H28: =SUMIF('Fluxo Junho'!$C$18:$C$74,'Fluxo de Caixa consolidado'!B28,'Fluxo Junho'!$AJ$18:$AJ$74) -> 0 | I28: =SUMIF('Fluxo Julho'!$C$18:$C$74,'Fluxo de Caixa consolidado'!B28,'Fluxo Julho'!$AJ$18:$AJ$74) -> 0 | J28: =SUMIF('Fluxo Agosto'!$C$18:$C$74,'Fluxo de Caixa consolidado'!B28,'Fluxo Agosto'!$AJ$18:$AJ$74) -> 0 | K28: =SUMIF('Fluxo Setembro'!$C$18:$C$74,'Fluxo de Caixa consolidado'!B28,'Fluxo Setembro'!$AJ$18:$AJ$74) -> 0 | L28: =SUMIF('Fluxo Outubro'!$C$17:$C$74,'Fluxo de Caixa consolidado'!B28,'Fluxo Outubro'!$AJ$17:$AJ$74) -> 0 | M28: =SUMIF('Fluxo Novembro'!$C$18:$C$74,'Fluxo de Caixa consolidado'!B28,'Fluxo Novembro'!$AJ$18:$AJ$74) -> 0 | N28: =SUMIF('Fluxo Dezembro'!$C$18:$C$74,'Fluxo de Caixa consolidado'!B28,'Fluxo Dezembro'!$AJ$18:$AJ$74) -> 0 | P28: =SUM(C28:N28) -> 0
C29: =SUMIF('Fluxo Janeiro'!$C$18:$C$74,'Fluxo de Caixa consolidado'!B29,'Fluxo Janeiro'!$AJ$18:$AJ$74) -> 0 | D29: =SUMIF('Fluxo Fevereiro'!$C$18:$C$74,'Fluxo de Caixa consolidado'!B29,'Fluxo Fevereiro'!$AJ$18:$AJ$74) -> 0 | E29: =SUMIF('Fluxo Março'!$C$18:$C$74,'Fluxo de Caixa consolidado'!B29,'Fluxo Março'!$AJ$18:$AJ$74) -> 0 | F29: =SUMIF('Fluxo Abril'!$C$18:$C$74,'Fluxo de Caixa consolidado'!B29,'Fluxo Abril'!$AJ$18:$AJ$74) -> 0 | G29: =SUMIF('Fluxo Maio'!$C$18:$C$74,'Fluxo de Caixa consolidado'!B29,'Fluxo Maio'!$AJ$18:$AJ$74) -> 0 | H29: =SUMIF('Fluxo Junho'!$C$18:$C$74,'Fluxo de Caixa consolidado'!B29,'Fluxo Junho'!$AJ$18:$AJ$74) -> 0 | I29: =SUMIF('Fluxo Julho'!$C$18:$C$74,'Fluxo de Caixa consolidado'!B29,'Fluxo Julho'!$AJ$18:$AJ$74) -> 0 | J29: =SUMIF('Fluxo Agosto'!$C$18:$C$74,'Fluxo de Caixa consolidado'!B29,'Fluxo Agosto'!$AJ$18:$AJ$74) -> 0 | K29: =SUMIF('Fluxo Setembro'!$C$18:$C$74,'Fluxo de Caixa consolidado'!B29,'Fluxo Setembro'!$AJ$18:$AJ$74) -> 0 | L29: =SUMIF('Fluxo Outubro'!$C$17:$C$74,'Fluxo de Caixa consolidado'!B29,'Fluxo Outubro'!$AJ$17:$AJ$74) -> 0 | M29: =SUMIF('Fluxo Novembro'!$C$18:$C$74,'Fluxo de Caixa consolidado'!B29,'Fluxo Novembro'!$AJ$18:$AJ$74) -> 0 | N29: =SUMIF('Fluxo Dezembro'!$C$18:$C$74,'Fluxo de Caixa consolidado'!B29,'Fluxo Dezembro'!$AJ$18:$AJ$74) -> 0 | P29: =SUM(C29:N29) -> 0
C30: =SUMIF('Fluxo Janeiro'!$C$18:$C$74,'Fluxo de Caixa consolidado'!B30,'Fluxo Janeiro'!$AJ$18:$AJ$74) -> 0 | D30: =SUMIF('Fluxo Fevereiro'!$C$18:$C$74,'Fluxo de Caixa consolidado'!B30,'Fluxo Fevereiro'!$AJ$18:$AJ$74) -> 0 | E30: =SUMIF('Fluxo Março'!$C$18:$C$74,'Fluxo de Caixa consolidado'!B30,'Fluxo Março'!$AJ$18:$AJ$74) -> 0 | F30: =SUMIF('Fluxo Abril'!$C$18:$C$74,'Fluxo de Caixa consolidado'!B30,'Fluxo Abril'!$AJ$18:$AJ$74) -> 0 | G30: =SUMIF('Fluxo Maio'!$C$18:$C$74,'Fluxo de Caixa consolidado'!B30,'Fluxo Maio'!$AJ$18:$AJ$74) -> 0 | H30: =SUMIF('Fluxo Junho'!$C$18:$C$74,'Fluxo de Caixa consolidado'!B30,'Fluxo Junho'!$AJ$18:$AJ$74) -> 0 | I30: =SUMIF('Fluxo Julho'!$C$18:$C$74,'Fluxo de Caixa consolidado'!B30,'Fluxo Julho'!$AJ$18:$AJ$74) -> 0 | J30: =SUMIF('Fluxo Agosto'!$C$18:$C$74,'Fluxo de Caixa consolidado'!B30,'Fluxo Agosto'!$AJ$18:$AJ$74) -> 0 | K30: =SUMIF('Fluxo Setembro'!$C$18:$C$74,'Fluxo de Caixa consolidado'!B30,'Fluxo Setembro'!$AJ$18:$AJ$74) -> 0 | L30: =SUMIF('Fluxo Outubro'!$C$17:$C$74,'Fluxo de Caixa consolidado'!B30,'Fluxo Outubro'!$AJ$17:$AJ$74) -> 0 | M30: =SUMIF('Fluxo Novembro'!$C$18:$C$74,'Fluxo de Caixa consolidado'!B30,'Fluxo Novembro'!$AJ$18:$AJ$74) -> 0 | N30: =SUMIF('Fluxo Dezembro'!$C$18:$C$74,'Fluxo de Caixa consolidado'!B30,'Fluxo Dezembro'!$AJ$18:$AJ$74) -> 0 | P30: =SUM(C30:N30) -> 0
C31: =SUMIF('Fluxo Janeiro'!$C$18:$C$74,'Fluxo de Caixa consolidado'!B31,'Fluxo Janeiro'!$AJ$18:$AJ$74) -> 0 | D31: =SUMIF('Fluxo Fevereiro'!$C$18:$C$74,'Fluxo de Caixa consolidado'!B31,'Fluxo Fevereiro'!$AJ$18:$AJ$74) -> 0 | E31: =SUMIF('Fluxo Março'!$C$18:$C$74,'Fluxo de Caixa consolidado'!B31,'Fluxo Março'!$AJ$18:$AJ$74) -> 0 | F31: =SUMIF('Fluxo Abril'!$C$18:$C$74,'Fluxo de Caixa consolidado'!B31,'Fluxo Abril'!$AJ$18:$AJ$74) -> 0 | G31: =SUMIF('Fluxo Maio'!$C$18:$C$74,'Fluxo de Caixa consolidado'!B31,'Fluxo Maio'!$AJ$18:$AJ$74) -> 0 | H31: =SUMIF('Fluxo Junho'!$C$18:$C$74,'Fluxo de Caixa consolidado'!B31,'Fluxo Junho'!$AJ$18:$AJ$74) -> 0 | I31: =SUMIF('Fluxo Julho'!$C$18:$C$74,'Fluxo de Caixa consolidado'!B31,'Fluxo Julho'!$AJ$18:$AJ$74) -> 0 | J31: =SUMIF('Fluxo Agosto'!$C$18:$C$74,'Fluxo de Caixa consolidado'!B31,'Fluxo Agosto'!$AJ$18:$AJ$74) -> 0 | K31: =SUMIF('Fluxo Setembro'!$C$18:$C$74,'Fluxo de Caixa consolidado'!B31,'Fluxo Setembro'!$AJ$18:$AJ$74) -> 0 | L31: =SUMIF('Fluxo Outubro'!$C$17:$C$74,'Fluxo de Caixa consolidado'!B31,'Fluxo Outubro'!$AJ$17:$AJ$74) -> 0 | M31: =SUMIF('Fluxo Novembro'!$C$18:$C$74,'Fluxo de Caixa consolidado'!B31,'Fluxo Novembro'!$AJ$18:$AJ$74) -> 0 | N31: =SUMIF('Fluxo Dezembro'!$C$18:$C$74,'Fluxo de Caixa consolidado'!B31,'Fluxo Dezembro'!$AJ$18:$AJ$74) -> 0 | P31: =SUM(C31:N31) -> 0
C32: =SUMIF('Fluxo Janeiro'!$C$18:$C$74,'Fluxo de Caixa consolidado'!B32,'Fluxo Janeiro'!$AJ$18:$AJ$74) -> 0 | D32: =SUMIF('Fluxo Fevereiro'!$C$18:$C$74,'Fluxo de Caixa consolidado'!B32,'Fluxo Fevereiro'!$AJ$18:$AJ$74) -> 0 | E32: =SUMIF('Fluxo Março'!$C$18:$C$74,'Fluxo de Caixa consolidado'!B32,'Fluxo Março'!$AJ$18:$AJ$74) -> 0 | F32: =SUMIF('Fluxo Abril'!$C$18:$C$74,'Fluxo de Caixa consolidado'!B32,'Fluxo Abril'!$AJ$18:$AJ$74) -> 0 | G32: =SUMIF('Fluxo Maio'!$C$18:$C$74,'Fluxo de Caixa consolidado'!B32,'Fluxo Maio'!$AJ$18:$AJ$74) -> 0 | H32: =SUMIF('Fluxo Junho'!$C$18:$C$74,'Fluxo de Caixa consolidado'!B32,'Fluxo Junho'!$AJ$18:$AJ$74) -> 0 | I32: =SUMIF('Fluxo Julho'!$C$18:$C$74,'Fluxo de Caixa consolidado'!B32,'Fluxo Julho'!$AJ$18:$AJ$74) -> 0 | J32: =SUMIF('Fluxo Agosto'!$C$18:$C$74,'Fluxo de Caixa consolidado'!B32,'Fluxo Agosto'!$AJ$18:$AJ$74) -> 0 | K32: =SUMIF('Fluxo Setembro'!$C$18:$C$74,'Fluxo de Caixa consolidado'!B32,'Fluxo Setembro'!$AJ$18:$AJ$74) -> 0 | L32: =SUMIF('Fluxo Outubro'!$C$17:$C$74,'Fluxo de Caixa consolidado'!B32,'Fluxo Outubro'!$AJ$17:$AJ$74) -> 0 | M32: =SUMIF('Fluxo Novembro'!$C$18:$C$74,'Fluxo de Caixa consolidado'!B32,'Fluxo Novembro'!$AJ$18:$AJ$74) -> 0 | N32: =SUMIF('Fluxo Dezembro'!$C$18:$C$74,'Fluxo de Caixa consolidado'!B32,'Fluxo Dezembro'!$AJ$18:$AJ$74) -> 0 | P32: =SUM(C32:N32) -> 0
... C105: =SUMIF('Fluxo Janeiro'!$C$18:$C$74,'Fluxo de Caixa consolidado'!B105,'Fluxo Janeiro'!$AJ$18:$AJ$74) -> 0 | D105: =SUMIF('Fluxo Fevereiro'!$C$18:$C$74,'Fluxo de Caixa consolidado'!B105,'Fluxo Fevereiro'!$AJ$18:$AJ$74) -> 0 | E105: =SUMIF('Fluxo Março'!$C$18:$C$74,'Fluxo de Caixa consolidado'!B105,'Fluxo Março'!$AJ$18:$AJ$74) -> 0 | F105: =SUMIF('Fluxo Abril'!$C$18:$C$74,'Fluxo de Caixa consolidado'!B105,'Fluxo Abril'!$AJ$18:$AJ$74) -> 0 | G105: =SUMIF('Fluxo Maio'!$C$18:$C$74,'Fluxo de Caixa consolidado'!B105,'Fluxo Maio'!$AJ$18:$AJ$74) -> 0 | H105: =SUMIF('Fluxo Junho'!$C$18:$C$74,'Fluxo de Caixa consolidado'!B105,'Fluxo Junho'!$AJ$18:$AJ$74) -> 0 | I105: =SUMIF('Fluxo Julho'!$C$18:$C$74,'Fluxo de Caixa consolidado'!B105,'Fluxo Julho'!$AJ$18:$AJ$74) -> 0 | J105: =SUMIF('Fluxo Agosto'!$C$18:$C$74,'Fluxo de Caixa consolidado'!B105,'Fluxo Agosto'!$AJ$18:$AJ$74) -> 0 | K105: =SUMIF('Fluxo Setembro'!$C$18:$C$74,'Fluxo de Caixa consolidado'!B105,'Fluxo Setembro'!$AJ$18:$AJ$74) -> 0 | L105: =SUMIF('Fluxo Outubro'!$C$17:$C$74,'Fluxo de Caixa consolidado'!B105,'Fluxo Outubro'!$AJ$17:$AJ$74) -> 0 | M105: =SUMIF('Fluxo Novembro'!$C$18:$C$74,'Fluxo de Caixa consolidado'!B105,'Fluxo Novembro'!$AJ$18:$AJ$74) -> 0 | N105: =SUMIF('Fluxo Dezembro'!$C$18:$C$74,'Fluxo de Caixa consolidado'!B105,'Fluxo Dezembro'!$AJ$18:$AJ$74) -> 0 | P105: =SUM(C105:N105) -> 0
C106: =SUMIF('Fluxo Janeiro'!$C$18:$C$75,'Fluxo de Caixa consolidado'!B106,'Fluxo Janeiro'!$AJ$18:$AJ$75) -> 0 | D106: =SUMIF('Fluxo Fevereiro'!$C$18:$C$75,'Fluxo de Caixa consolidado'!B106,'Fluxo Fevereiro'!$AJ$18:$AJ$75) -> 0 | E106: =SUMIF('Fluxo Março'!$C$18:$C$75,'Fluxo de Caixa consolidado'!B106,'Fluxo Março'!$AJ$18:$AJ$75) -> 0 | F106: =SUMIF('Fluxo Abril'!$C$18:$C$75,'Fluxo de Caixa consolidado'!B106,'Fluxo Abril'!$AJ$18:$AJ$75) -> 0 | G106: =SUMIF('Fluxo Maio'!$C$18:$C$74,'Fluxo de Caixa consolidado'!B106,'Fluxo Maio'!$AJ$18:$AJ$74) -> 0 | H106: =SUMIF('Fluxo Junho'!$C$18:$C$75,'Fluxo de Caixa consolidado'!B106,'Fluxo Junho'!$AJ$18:$AJ$75) -> 0 | I106: =SUMIF('Fluxo Julho'!$C$18:$C$75,'Fluxo de Caixa consolidado'!B106,'Fluxo Julho'!$AJ$18:$AJ$75) -> 0 | J106: =SUMIF('Fluxo Agosto'!$C$18:$C$75,'Fluxo de Caixa consolidado'!B106,'Fluxo Agosto'!$AJ$18:$AJ$75) -> 0 | K106: =SUMIF('Fluxo Setembro'!$C$18:$C$75,'Fluxo de Caixa consolidado'!B106,'Fluxo Setembro'!$AJ$18:$AJ$75) -> 0 | L106: =SUMIF('Fluxo Outubro'!$C$17:$C$75,'Fluxo de Caixa consolidado'!B106,'Fluxo Outubro'!$AJ$17:$AJ$75) -> 0 | M106: =SUMIF('Fluxo Novembro'!$C$18:$C$72,'Fluxo de Caixa consolidado'!B106,'Fluxo Novembro'!$AJ$18:$AJ$72) -> 0 | N106: =SUMIF('Fluxo Dezembro'!$C$18:$C$72,'Fluxo de Caixa consolidado'!B106,'Fluxo Dezembro'!$AJ$18:$AJ$72) -> 0 | P106: =SUM(C106:N106) -> 0
C107: =SUMIF('Fluxo Janeiro'!$C$18:$C$75,'Fluxo de Caixa consolidado'!B107,'Fluxo Janeiro'!$AJ$18:$AJ$75) -> 0 | D107: =SUMIF('Fluxo Fevereiro'!$C$18:$C$75,'Fluxo de Caixa consolidado'!B107,'Fluxo Fevereiro'!$AJ$18:$AJ$75) -> 0 | E107: =SUMIF('Fluxo Março'!$C$18:$C$75,'Fluxo de Caixa consolidado'!B107,'Fluxo Março'!$AJ$18:$AJ$75) -> 0 | F107: =SUMIF('Fluxo Abril'!$C$18:$C$75,'Fluxo de Caixa consolidado'!B107,'Fluxo Abril'!$AJ$18:$AJ$75) -> 0 | G107: =SUMIF('Fluxo Maio'!$C$18:$C$74,'Fluxo de Caixa consolidado'!B107,'Fluxo Maio'!$AJ$18:$AJ$74) -> 0 | H107: =SUMIF('Fluxo Junho'!$C$18:$C$75,'Fluxo de Caixa consolidado'!B107,'Fluxo Junho'!$AJ$18:$AJ$75) -> 0 | I107: =SUMIF('Fluxo Julho'!$C$18:$C$75,'Fluxo de Caixa consolidado'!B107,'Fluxo Julho'!$AJ$18:$AJ$75) -> 0 | J107: =SUMIF('Fluxo Agosto'!$C$18:$C$75,'Fluxo de Caixa consolidado'!B107,'Fluxo Agosto'!$AJ$18:$AJ$75) -> 0 | K107: =SUMIF('Fluxo Setembro'!$C$18:$C$75,'Fluxo de Caixa consolidado'!B107,'Fluxo Setembro'!$AJ$18:$AJ$75) -> 0 | L107: =SUMIF('Fluxo Outubro'!$C$17:$C$75,'Fluxo de Caixa consolidado'!B107,'Fluxo Outubro'!$AJ$17:$AJ$75) -> 0 | M107: =SUMIF('Fluxo Novembro'!$C$18:$C$72,'Fluxo de Caixa consolidado'!B107,'Fluxo Novembro'!$AJ$18:$AJ$72) -> 0 | N107: =SUMIF('Fluxo Dezembro'!$C$18:$C$72,'Fluxo de Caixa consolidado'!B107,'Fluxo Dezembro'!$AJ$18:$AJ$72) -> 0 | P107: =SUM(C107:N107) -> 0
B108: TOTAL DAS SAÍDAS | C108: =SUM(C17:C107) -> 0 | D108: =SUM(D17:D107) -> 0 | E108: =SUM(E17:E107) -> 0 | F108: =SUM(F17:F107) -> 0 | G108: =SUM(G17:G107) -> 0 | H108: =SUM(H17:H107) -> 0 | I108: =SUM(I17:I107) -> 0 | J108: =SUM(J17:J107) -> 0 | ... N108: =SUM(N17:N107) -> 0 | P108: =SUM(P17:P107) -> 0
B109: (ENTRADAS - SAÍDAS) | C109: =C14-C108 -> 0 | D109: =D14-D108 -> 0 | E109: =E14-E108 -> 0 | F109: =F14-F108 -> 0 | G109: =G14-G108 -> 0 | H109: =H14-H108 -> 0 | I109: =I14-I108 -> 0 | J109: =J14-J108 -> 0 | ... N109: =N14-N108 -> 0 | P109: =P14-P108 -> 0
B110: SALDO ANTERIOR | C110: ='Fluxo Janeiro'!D77 -> 0 | D110: =C111 -> 0 | E110: =D111 -> 0 | F110: =E111 -> 0 | G110: =F111 -> 0 | H110: =G111 -> 0 | I110: =H111 -> 0 | J110: =I111 -> 0 | K110: =J111 -> 0 | ... N110: =M111 -> 0 | P110: =C110 -> 0
B111: SALDO FINAL | C111: =C109+C110 -> 0 | D111: =D109+D110 -> 0 | E111: =E109+E110 -> 0 | F111: =F109+F110 -> 0 | G111: =G109+G110 -> 0 | H111: =H109+H110 -> 0 | I111: =I109+I110 -> 0 | J111: =J109+J110 -> 0 | ... N111: =N109+N110 -> 0 | P111: =P109+P110 -> 0
B117: Saldo Caixa inicial
B118: 0

Sheet Fluxo Janeiro
C3: ="Planilha fluxo de caixa diário - "&B5 -> Planilha fluxo de caixa diário - janeiro
B4: 44562 | C4: Data | D4: =B4 -> 44562 | E4: =D4+1 -> 44563 | F4: =E4+1 -> 44564 | G4: =F4+1 -> 44565 | H4: =G4+1 -> 44566 | I4: =H4+1 -> 44567 | J4: =I4+1 -> 44568 | K4: =J4+1 -> 44569 | L4: =K4+1 -> 44570 | ... AH4: =AG4+1 -> 44592 | AJ4: Total
B5: =TEXT(B4,"Mmmm") -> janeiro | C5: Dia semana | D5: =IF(D$4<>"",TEXT(D$4,"ddd"),"") -> sáb | E5: =IF(E$4<>"",TEXT(E$4,"ddd"),"") -> dom | F5: =IF(F$4<>"",TEXT(F$4,"ddd"),"") -> seg | G5: =IF(G$4<>"",TEXT(G$4,"ddd"),"") -> ter | H5: =IF(H$4<>"",TEXT(H$4,"ddd"),"") -> qua | I5: =IF(I$4<>"",TEXT(I$4,"ddd"),"") -> qui | J5: =IF(J$4<>"",TEXT(J$4,"ddd"),"") -> sex | K5: =IF(K$4<>"",TEXT(K$4,"ddd"),"") -> sáb | ... AH5: =IF(AH$4<>"",TEXT(AH$4,"ddd"),"") -> seg | AJ5: Real
C6: ENTRADAS | D6: Real | E6: Real | F6: Real | G6: Real | H6: Real | I6: Real | J6: Real | K6: Real | L6: Real | M6: Real | N6: Real | O6: Real | P6: Real | Q6: Real | R6: Real | S6: Real | T6: Real | U6: Real | V6: Real | W6: Real | X6: Real | Y6: Real | Z6: Real | AA6: Real | AB6: Real | AC6: Real | AD6: Real | AE6: Real | AF6: Real | AG6: Real | AH6: Real | AJ6: ENTRADAS
C7: Dinheiro | AJ7: =SUM(D7:AH7) -> 0
C8: Tranferências Bancárias | AJ8: =SUM(D8:AH8) -> 0
C9: Cartão | AJ9: =SUM(D9:AH9) -> 0
C10: Faturamento pedido | AJ10: =SUM(D10:AH10) -> 0
C11: Juros | AJ11: =SUM(D11:AH11) -> 0
C12: Ajuste receita +- | AJ12: =SUM(D12:AH12) -> 0
AJ13: =SUM(D13:AH13) -> 0
AJ14: =SUM(D14:AH14) -> 0
C15: TOTAL DAS ENTRADAS | D15: =SUM(D7:D14) -> 0 | E15: =SUM(E7:E14) -> 0 | F15: =SUM(F7:F14) -> 0 | G15: =SUM(G7:G14) -> 0 | H15: =SUM(H7:H14) -> 0 | I15: =SUM(I7:I14) -> 0 | J15: =SUM(J7:J14) -> 0 | K15: =SUM(K7:K14) -> 0 | ... AH15: =SUM(AH7:AH14) -> 0 | AJ15: =SUM(D15:AH15) -> 0
C17: SAÍDAS | D17: =D4 -> 44562 | E17: =E4 -> 44563 | F17: =F4 -> 44564 | G17: =G4 -> 44565 | H17: =H4 -> 44566 | I17: =I4 -> 44567 | J17: =J4 -> 44568 | K17: =K4 -> 44569 | ... AH17: =AH4 -> 44592 | AJ17: SAÍDAS
AJ18: =SUM(D18:AH18) -> 0
AJ19: =SUM(D19:AH19) -> 0
AJ20: =SUM(D20:AH20) -> 0
AJ21: =SUM(D21:AH21) -> 0
AJ22: =SUM(D22:AH22) -> 0
AJ23: =SUM(D23:AH23) -> 0
AJ24: =SUM(D24:AH24) -> 0
AJ25: =SUM(D25:AH25) -> 0
AJ26: =SUM(D26:AH26) -> 0
AJ27: =SUM(D27:AH27) -> 0
AJ28: =SUM(D28:AH28) -> 0
AJ29: =SUM(D29:AH29) -> 0
... AJ74: =SUM(D74:AH74) -> 0
C75: TOTAL DAS SAÍDAS | D75: =SUM(D18:D74) -> 0 | E75: =SUM(E18:E74) -> 0 | F75: =SUM(F18:F74) -> 0 | G75: =SUM(G18:G74) -> 0 | H75: =SUM(H18:H74) -> 0 | I75: =SUM(I18:I74) -> 0 | J75: =SUM(J18:J74) -> 0 | K75: =SUM(K18:K74) -> 0 | ... AH75: =SUM(AH18:AH74) -> 0 | AJ75: =SUM(D75:AH75) -> 0
C76: 1 (ENTRADAS - SAÍDAS) | D76: =D15-D75 -> 0 | E76: =E15-E75 -> 0 | F76: =F15-F75 -> 0 | G76: =G15-G75 -> 0 | H76: =H15-H75 -> 0 | I76: =I15-I75 -> 0 | J76: =J15-J75 -> 0 | K76: =K15-K75 -> 0 | ... AH76: =AH15-AH75 -> 0 | AJ76: =AJ15-AJ75 -> 0
C77: 2 SALDO ANTERIOR | D77: ='Fluxo de Caixa consolidado'!B118 -> 0 | E77: =D78 -> 0 | F77: =E78 -> 0 | G77: =F78 -> 0 | H77: =G78 -> 0 | I77: =H78 -> 0 | J77: =I78 -> 0 | K77: =J78 -> 0 | L77: =K78 -> 0 | ... AH77: =AG78 -> 0 | AJ77: =D77 -> 0
C78: 3 SALDO FINAL | D78: =D76+D77 -> 0 | E78: =E76+E77 -> 0 | F78: =F76+F77 -> 0 | G78: =G76+G77 -> 0 | H78: =H76+H77 -> 0 | I78: =I76+I77 -> 0 | J78: =J76+J77 -> 0 | K78: =K76+K77 -> 0 | ... AH78: =AH76+AH77 -> 0 | AJ78: =AJ76+AJ77 -> 0
C81: Saldo conta 1
C82: Saldo conta 2
C83: Saldo Caixa
C84: Total | D84: =SUM(D81:D83) -> 0 | E84: =SUM(E81:E83) -> 0 | F84: =SUM(F81:F83) -> 0 | G84: =SUM(G81:G83) -> 0 | H84: =SUM(H81:H83) -> 0 | I84: =SUM(I81:I83) -> 0 | J84: =SUM(J81:J83) -> 0 | K84: =SUM(K81:K83) -> 0 | ... AH84: =SUM(AH81:AH83) -> 0

Sheet Fluxo Fevereiro
C3: ="Planilha fluxo de caixa diário - "&B5 -> Planilha fluxo de caixa diário - fevereiro
B4: 44593 | C4: Data | D4: =B4 -> 44593 | E4: =D4+1 -> 44594 | F4: =E4+1 -> 44595 | G4: =F4+1 -> 44596 | H4: =G4+1 -> 44597 | I4: =H4+1 -> 44598 | J4: =I4+1 -> 44599 | K4: =J4+1 -> 44600 | L4: =K4+1 -> 44601 | ... AH4: =AG4+1 -> 44623 | AJ4: Total
B5: =TEXT(B4,"Mmmm") -> fevereiro | C5: Dia semana | D5: =IF(D$4<>"",TEXT(D$4,"ddd"),"") -> ter | E5: =IF(E$4<>"",TEXT(E$4,"ddd"),"") -> qua | F5: =IF(F$4<>"",TEXT(F$4,"ddd"),"") -> qui | G5: =IF(G$4<>"",TEXT(G$4,"ddd"),"") -> sex | H5: =IF(H$4<>"",TEXT(H$4,"ddd"),"") -> sáb | I5: =IF(I$4<>"",TEXT(I$4,"ddd"),"") -> dom | J5: =IF(J$4<>"",TEXT(J$4,"ddd"),"") -> seg | K5: =IF(K$4<>"",TEXT(K$4,"ddd"),"") -> ter | ... AH5: =IF(AH$4<>"",TEXT(AH$4,"ddd"),"") -> qui | AJ5: Real
C6: ENTRADAS | D6: Real | E6: Real | F6: Real | G6: Real | H6: Real | I6: Real | J6: Real | K6: Real | L6: Real | M6: Real | N6: Real | O6: Real | P6: Real | Q6: Real | R6: Real | S6: Real | T6: Real | U6: Real | V6: Real | W6: Real | X6: Real | Y6: Real | Z6: Real | AA6: Real | AB6: Real | AC6: Real | AD6: Real | AE6: Real | AF6: Real | AG6: Real | AH6: Real | AJ6: ENTRADAS
C7: Dinheiro | AJ7: =SUM(D7:AH7) -> 0
C8: Tranferências Bancárias | AJ8: =SUM(D8:AH8) -> 0
C9: Cartão | AJ9: =SUM(D9:AH9) -> 0
C10: Faturamento pedido | AJ10: =SUM(D10:AH10) -> 0
C11: Juros | AJ11: =SUM(D11:AH11) -> 0
C12: Ajuste receita +- | AJ12: =SUM(D12:AH12) -> 0
AJ13: =SUM(D13:AH13) -> 0
AJ14: =SUM(D14:AH14) -> 0
C15: TOTAL DAS ENTRADAS | D15: =SUM(D7:D14) -> 0 | E15: =SUM(E7:E14) -> 0 | F15: =SUM(F7:F14) -> 0 | G15: =SUM(G7:G14) -> 0 | H15: =SUM(H7:H14) -> 0 | I15: =SUM(I7:I14) -> 0 | J15: =SUM(J7:J14) -> 0 | K15: =SUM(K7:K14) -> 0 | ... AH15: =SUM(AH7:AH14) -> 0 | AJ15: =SUM(D15:AH15) -> 0
C17: SAÍDAS | D17: =D4 -> 44593 | E17: =E4 -> 44594 | F17: =F4 -> 44595 | G17: =G4 -> 44596 | H17: =H4 -> 44597 | I17: =I4 -> 44598 | J17: =J4 -> 44599 | K17: =K4 -> 44600 | ... AH17: =AH4 -> 44623 | AJ17: SAÍDAS
AJ18: =SUM(D18:AH18) -> 0
AJ19: =SUM(D19:AH19) -> 0
AJ20: =SUM(D20:AH20) -> 0
AJ21: =SUM(D21:AH21) -> 0
AJ22: =SUM(D22:AH22) -> 0
AJ23: =SUM(D23:AH23) -> 0
AJ24: =SUM(D24:AH24) -> 0
AJ25: =SUM(D25:AH25) -> 0
AJ26: =SUM(D26:AH26) -> 0
AJ27: =SUM(D27:AH27) -> 0
AJ28: =SUM(D28:AH28) -> 0
AJ29: =SUM(D29:AH29) -> 0
... AJ74: =SUM(D74:AH74) -> 0
C75: TOTAL DAS SAÍDAS | D75: =SUM(D18:D74) -> 0 | E75: =SUM(E18:E74) -> 0 | F75: =SUM(F18:F74) -> 0 | G75: =SUM(G18:G74) -> 0 | H75: =SUM(H18:H74) -> 0 | I75: =SUM(I18:I74) -> 0 | J75: =SUM(J18:J74) -> 0 | K75: =SUM(K18:K74) -> 0 | ... AH75: =SUM(AH18:AH74) -> 0 | AJ75: =SUM(D75:AH75) -> 0
C76: 1 (ENTRADAS - SAÍDAS) | D76: =D15-D75 -> 0 | E76: =E15-E75 -> 0 | F76: =F15-F75 -> 0 | G76: =G15-G75 -> 0 | H76: =H15-H75 -> 0 | I76: =I15-I75 -> 0 | J76: =J15-J75 -> 0 | K76: =K15-K75 -> 0 | ... AH76: =AH15-AH75 -> 0 | AJ76: =AJ15-AJ75 -> 0
C77: 2 SALDO ANTERIOR | D77: ='Fluxo Janeiro'!AJ78 -> 0 | E77: =D78 -> 0 | F77: =E78 -> 0 | G77: =F78 -> 0 | H77: =G78 -> 0 | I77: =H78 -> 0 | J77: =I78 -> 0 | K77: =J78 -> 0 | L77: =K78 -> 0 | ... AH77: =AG78 -> 0 | AJ77: =D77 -> 0
C78: 3 SALDO FINAL | D78: =D76+D77 -> 0 | E78: =E76+E77 -> 0 | F78: =F76+F77 -> 0 | G78: =G76+G77 -> 0 | H78: =H76+H77 -> 0 | I78: =I76+I77 -> 0 | J78: =J76+J77 -> 0 | K78: =K76+K77 -> 0 | ... AH78: =AH76+AH77 -> 0 | AJ78: =AJ76+AJ77 -> 0
C81: Saldo conta 1
C82: Saldo conta 2
C83: Saldo Caixa
C84: Total | D84: =SUM(D81:D83) -> 0 | E84: =SUM(E81:E83) -> 0 | F84: =SUM(F81:F83) -> 0 | G84: =SUM(G81:G83) -> 0 | H84: =SUM(H81:H83) -> 0 | I84: =SUM(I81:I83) -> 0 | J84: =SUM(J81:J83) -> 0 | K84: =SUM(K81:K83) -> 0 | ... AH84: =SUM(AH81:AH83) -> 0

Sheet Fluxo Março
C3: ="Planilha fluxo de caixa diário - "&B5 -> Planilha fluxo de caixa diário - março
B4: 44621 | C4: Data | D4: =B4 -> 44621 | E4: =D4+1 -> 44622 | F4: =E4+1 -> 44623 | G4: =F4+1 -> 44624 | H4: =G4+1 -> 44625 | I4: =H4+1 -> 44626 | J4: =I4+1 -> 44627 | K4: =J4+1 -> 44628 | L4: =K4+1 -> 44629 | ... AH4: =AG4+1 -> 44651 | AJ4: Total
B5: =TEXT(B4,"Mmmm") -> março | C5: Dia semana | D5: =IF(D$4<>"",TEXT(D$4,"ddd"),"") -> ter | E5: =IF(E$4<>"",TEXT(E$4,"ddd"),"") -> qua | F5: =IF(F$4<>"",TEXT(F$4,"ddd"),"") -> qui | G5: =IF(G$4<>"",TEXT(G$4,"ddd"),"") -> sex | H5: =IF(H$4<>"",TEXT(H$4,"ddd"),"") -> sáb | I5: =IF(I$4<>"",TEXT(I$4,"ddd"),"") -> dom | J5: =IF(J$4<>"",TEXT(J$4,"ddd"),"") -> seg | K5: =IF(K$4<>"",TEXT(K$4,"ddd"),"") -> ter | ... AH5: =IF(AH$4<>"",TEXT(AH$4,"ddd"),"") -> qui | AJ5: Real
C6: ENTRADAS | D6: Real | E6: Real | F6: Real | G6: Real | H6: Real | I6: Real | J6: Real | K6: Real | L6: Real | M6: Real | N6: Real | O6: Real | P6: Real | Q6: Real | R6: Real | S6: Real | T6: Real | U6: Real | V6: Real | W6: Real | X6: Real | Y6: Real | Z6: Real | AA6: Real | AB6: Real | AC6: Real | AD6: Real | AE6: Real | AF6: Real | AG6: Real | AH6: Real | AJ6: ENTRADAS
C7: Dinheiro | AJ7: =SUM(D7:AH7) -> 0
C8: Tranferências Bancárias | AJ8: =SUM(D8:AH8) -> 0
C9: Cartão | AJ9: =SUM(D9:AH9) -> 0
C10: Faturamento pedido | AJ10: =SUM(D10:AH10) -> 0
C11: Juros | AJ11: =SUM(D11:AH11) -> 0
C12: Ajuste receita +- | AJ12: =SUM(D12:AH12) -> 0
AJ13: =SUM(D13:AH13) -> 0
AJ14: =SUM(D14:AH14) -> 0
C15: TOTAL DAS ENTRADAS | D15: =SUM(D7:D14) -> 0 | E15: =SUM(E7:E14) -> 0 | F15: =SUM(F7:F14) -> 0 | G15: =SUM(G7:G14) -> 0 | H15: =SUM(H7:H14) -> 0 | I15: =SUM(I7:I14) -> 0 | J15: =SUM(J7:J14) -> 0 | K15: =SUM(K7:K14) -> 0 | ... AH15: =SUM(AH7:AH14) -> 0 | AJ15: =SUM(D15:AH15) -> 0
C17: SAÍDAS | D17: =D4 -> 44621 | E17: =E4 -> 44622 | F17: =F4 -> 44623 | G17: =G4 -> 44624 | H17: =H4 -> 44625 | I17: =I4 -> 44626 | J17: =J4 -> 44627 | K17: =K4 -> 44628 | ... AH17: =AH4 -> 44651 | AJ17: SAÍDAS
AJ18: =SUM(D18:AH18) -> 0
AJ19: =SUM(D19:AH19) -> 0
AJ20: =SUM(D20:AH20) -> 0
AJ21: =SUM(D21:AH21) -> 0
AJ22: =SUM(D22:AH22) -> 0
AJ23: =SUM(D23:AH23) -> 0
AJ24: =SUM(D24:AH24) -> 0
AJ25: =SUM(D25:AH25) -> 0
AJ26: =SUM(D26:AH26) -> 0
AJ27: =SUM(D27:AH27) -> 0
AJ28: =SUM(D28:AH28) -> 0
AJ29: =SUM(D29:AH29) -> 0
... AJ74: =SUM(D74:AH74) -> 0
C75: TOTAL DAS SAÍDAS | D75: =SUM(D18:D74) -> 0 | E75: =SUM(E18:E74) -> 0 | F75: =SUM(F18:F74) -> 0 | G75: =SUM(G18:G74) -> 0 | H75: =SUM(H18:H74) -> 0 | I75: =SUM(I18:I74) -> 0 | J75: =SUM(J18:J74) -> 0 | K75: =SUM(K18:K74) -> 0 | ... AH75: =SUM(AH18:AH74) -> 0 | AJ75: =SUM(D75:AH75) -> 0
C76: 1 (ENTRADAS - SAÍDAS) | D76: =D15-D75 -> 0 | E76: =E15-E75 -> 0 | F76: =F15-F75 -> 0 | G76: =G15-G75 -> 0 | H76: =H15-H75 -> 0 | I76: =I15-I75 -> 0 | J76: =J15-J75 -> 0 | K76: =K15-K75 -> 0 | ... AH76: =AH15-AH75 -> 0 | AJ76: =AJ15-AJ75 -> 0
C77: 2 SALDO ANTERIOR | D77: ='Fluxo Fevereiro'!AJ78 -> 0 | E77: =D78 -> 0 | F77: =E78 -> 0 | G77: =F78 -> 0 | H77: =G78 -> 0 | I77: =H78 -> 0 | J77: =I78 -> 0 | K77: =J78 -> 0 | L77: =K78 -> 0 | ... AH77: =AG78 -> 0 | AJ77: =D77 -> 0
C78: 3 SALDO FINAL | D78: =D76+D77 -> 0 | E78: =E76+E77 -> 0 | F78: =F76+F77 -> 0 | G78: =G76+G77 -> 0 | H78: =H76+H77 -> 0 | I78: =I76+I77 -> 0 | J78: =J76+J77 -> 0 | K78: =K76+K77 -> 0 | ... AH78: =AH76+AH77 -> 0 | AJ78: =AJ76+AJ77 -> 0
C81: Saldo conta 1
C82: Saldo conta 2
C83: Saldo Caixa
C84: Total | D84: =SUM(D81:D83) -> 0 | E84: =SUM(E81:E83) -> 0 | F84: =SUM(F81:F83) -> 0 | G84: =SUM(G81:G83) -> 0 | H84: =SUM(H81:H83) -> 0 | I84: =SUM(I81:I83) -> 0 | J84: =SUM(J81:J83) -> 0 | K84: =SUM(K81:K83) -> 0 | ... AH84: =SUM(AH81:AH83) -> 0

Sheet Fluxo Abril
C3: ="Planilha fluxo de caixa diário - "&B5 -> Planilha fluxo de caixa diário - abril
B4: 44652 | C4: Data | D4: =B4 -> 44652 | E4: =D4+1 -> 44653 | F4: =E4+1 -> 44654 | G4: =F4+1 -> 44655 | H4: =G4+1 -> 44656 | I4: =H4+1 -> 44657 | J4: =I4+1 -> 44658 | K4: =J4+1 -> 44659 | L4: =K4+1 -> 44660 | ... AH4: =AG4+1 -> 44682 | AJ4: Total
B5: =TEXT(B4,"Mmmm") -> abril | C5: Dia semana | D5: =IF(D$4<>"",TEXT(D$4,"ddd"),"") -> sex | E5: =IF(E$4<>"",TEXT(E$4,"ddd"),"") -> sáb | F5: =IF(F$4<>"",TEXT(F$4,"ddd"),"") -> dom | G5: =IF(G$4<>"",TEXT(G$4,"ddd"),"") -> seg | H5: =IF(H$4<>"",TEXT(H$4,"ddd"),"") -> ter | I5: =IF(I$4<>"",TEXT(I$4,"ddd"),"") -> qua | J5: =IF(J$4<>"",TEXT(J$4,"ddd"),"") -> qui | K5: =IF(K$4<>"",TEXT(K$4,"ddd"),"") -> sex | ... AH5: =IF(AH$4<>"",TEXT(AH$4,"ddd"),"") -> dom | AJ5: Real
C6: ENTRADAS | D6: Real | E6: Real | F6: Real | G6: Real | H6: Real | I6: Real | J6: Real | K6: Real | L6: Real | M6: Real | N6: Real | O6: Real | P6: Real | Q6: Real | R6: Real | S6: Real | T6: Real | U6: Real | V6: Real | W6: Real | X6: Real | Y6: Real | Z6: Real | AA6: Real | AB6: Real | AC6: Real | AD6: Real | AE6: Real | AF6: Real | AG6: Real | AH6: Real | AJ6: ENTRADAS
C7: Dinheiro | AJ7: =SUM(D7:AH7) -> 0
C8: Tranferências Bancárias | AJ8: =SUM(D8:AH8) -> 0
C9: Cartão | AJ9: =SUM(D9:AH9) -> 0
C10: Faturamento pedido | AJ10: =SUM(D10:AH10) -> 0
C11: Juros | AJ11: =SUM(D11:AH11) -> 0
C12: Ajuste receita +- | AJ12: =SUM(D12:AH12) -> 0
AJ13: =SUM(D13:AH13) -> 0
AJ14: =SUM(D14:AH14) -> 0
C15: TOTAL DAS ENTRADAS | D15: =SUM(D7:D14) -> 0 | E15: =SUM(E7:E14) -> 0 | F15: =SUM(F7:F14) -> 0 | G15: =SUM(G7:G14) -> 0 | H15: =SUM(H7:H14) -> 0 | I15: =SUM(I7:I14) -> 0 | J15: =SUM(J7:J14) -> 0 | K15: =SUM(K7:K14) -> 0 | ... AH15: =SUM(AH7:AH14) -> 0 | AJ15: =SUM(D15:AH15) -> 0
C17: SAÍDAS | D17: =D4 -> 44652 | E17: =E4 -> 44653 | F17: =F4 -> 44654 | G17: =G4 -> 44655 | H17: =H4 -> 44656 | I17: =I4 -> 44657 | J17: =J4 -> 44658 | K17: =K4 -> 44659 | ... AH17: =AH4 -> 44682 | AJ17: SAÍDAS
AJ18: =SUM(D18:AH18) -> 0
AJ19: =SUM(D19:AH19) -> 0
AJ20: =SUM(D20:AH20) -> 0
AJ21: =SUM(D21:AH21) -> 0
AJ22: =SUM(D22:AH22) -> 0
AJ23: =SUM(D23:AH23) -> 0
AJ24: =SUM(D24:AH24) -> 0
AJ25: =SUM(D25:AH25) -> 0
AJ26: =SUM(D26:AH26) -> 0
AJ27: =SUM(D27:AH27) -> 0
AJ28: =SUM(D28:AH28) -> 0
AJ29: =SUM(D29:AH29) -> 0
... AJ74: =SUM(D74:AH74) -> 0
C75: TOTAL DAS SAÍDAS | D75: =SUM(D18:D74) -> 0 | E75: =SUM(E18:E74) -> 0 | F75: =SUM(F18:F74) -> 0 | G75: =SUM(G18:G74) -> 0 | H75: =SUM(H18:H74) -> 0 | I75: =SUM(I18:I74) -> 0 | J75: =SUM(J18:J74) -> 0 | K75: =SUM(K18:K74) -> 0 | ... AH75: =SUM(AH18:AH74) -> 0 | AJ75: =SUM(D75:AH75) -> 0
C76: 1 (ENTRADAS - SAÍDAS) | D76: =D15-D75 -> 0 | E76: =E15-E75 -> 0 | F76: =F15-F75 -> 0 | G76: =G15-G75 -> 0 | H76: =H15-H75 -> 0 | I76: =I15-I75 -> 0 | J76: =J15-J75 -> 0 | K76: =K15-K75 -> 0 | ... AH76: =AH15-AH75 -> 0 | AJ76: =AJ15-AJ75 -> 0
C77: 2 SALDO ANTERIOR | D77: ='Fluxo Março'!AJ78 -> 0 | E77: =D78 -> 0 | F77: =E78 -> 0 | G77: =F78 -> 0 | H77: =G78 -> 0 | I77: =H78 -> 0 | J77: =I78 -> 0 | K77: =J78 -> 0 | L77: =K78 -> 0 | ... AH77: =AG78 -> 0 | AJ77: =D77 -> 0
C78: 3 SALDO FINAL | D78: =D76+D77 -> 0 | E78: =E76+E77 -> 0 | F78: =F76+F77 -> 0 | G78: =G76+G77 -> 0 | H78: =H76+H77 -> 0 | I78: =I76+I77 -> 0 | J78: =J76+J77 -> 0 | K78: =K76+K77 -> 0 | ... AH78: =AH76+AH77 -> 0 | AJ78: =AJ76+AJ77 -> 0
C81: Saldo conta 1
C82: Saldo conta 2
C83: Saldo Caixa
C84: Total | D84: =SUM(D81:D83) -> 0 | E84: =SUM(E81:E83) -> 0 | F84: =SUM(F81:F83) -> 0 | G84: =SUM(G81:G83) -> 0 | H84: =SUM(H81:H83) -> 0 | I84: =SUM(I81:I83) -> 0 | J84: =SUM(J81:J83) -> 0 | K84: =SUM(K81:K83) -> 0 | ... AH84: =SUM(AH81:AH83) -> 0

Sheet Fluxo Maio
C3: ="Planilha fluxo de caixa diário - "&B5 -> Planilha fluxo de caixa diário - maio
B4: 44682 | C4: Data | D4: =B4 -> 44682 | E4: =D4+1 -> 44683 | F4: =E4+1 -> 44684 | G4: =F4+1 -> 44685 | H4: =G4+1 -> 44686 | I4: =H4+1 -> 44687 | J4: =I4+1 -> 44688 | K4: =J4+1 -> 44689 | L4: =K4+1 -> 44690 | ... AH4: =AG4+1 -> 44712 | AJ4: Total
B5: =TEXT(B4,"Mmmm") -> maio | C5: Dia semana | D5: =IF(D$4<>"",TEXT(D$4,"ddd"),"") -> dom | E5: =IF(E$4<>"",TEXT(E$4,"ddd"),"") -> seg | F5: =IF(F$4<>"",TEXT(F$4,"ddd"),"") -> ter | G5: =IF(G$4<>"",TEXT(G$4,"ddd"),"") -> qua | H5: =IF(H$4<>"",TEXT(H$4,"ddd"),"") -> qui | I5: =IF(I$4<>"",TEXT(I$4,"ddd"),"") -> sex | J5: =IF(J$4<>"",TEXT(J$4,"ddd"),"") -> sáb | K5: =IF(K$4<>"",TEXT(K$4,"ddd"),"") -> dom | ... AH5: =IF(AH$4<>"",TEXT(AH$4,"ddd"),"") -> ter | AJ5: Real
C6: ENTRADAS | D6: Real | E6: Real | F6: Real | G6: Real | H6: Real | I6: Real | J6: Real | K6: Real | L6: Real | M6: Real | N6: Real | O6: Real | P6: Real | Q6: Real | R6: Real | S6: Real | T6: Real | U6: Real | V6: Real | W6: Real | X6: Real | Y6: Real | Z6: Real | AA6: Real | AB6: Real | AC6: Real | AD6: Real | AE6: Real | AF6: Real | AG6: Real | AH6: Real | AJ6: ENTRADAS
C7: Dinheiro | AJ7: =SUM(D7:AH7) -> 0
C8: Tranferências Bancárias | AJ8: =SUM(D8:AH8) -> 0
C9: Cartão | AJ9: =SUM(D9:AH9) -> 0
C10: Faturamento pedido | AJ10: =SUM(D10:AH10) -> 0
C11: Juros | AJ11: =SUM(D11:AH11) -> 0
C12: Ajuste receita +- | AJ12: =SUM(D12:AH12) -> 0
AJ13: =SUM(D13:AH13) -> 0
AJ14: =SUM(D14:AH14) -> 0
C15: TOTAL DAS ENTRADAS | D15: =SUM(D7:D14) -> 0 | E15: =SUM(E7:E14) -> 0 | F15: =SUM(F7:F14) -> 0 | G15: =SUM(G7:G14) -> 0 | H15: =SUM(H7:H14) -> 0 | I15: =SUM(I7:I14) -> 0 | J15: =SUM(J7:J14) -> 0 | K15: =SUM(K7:K14) -> 0 | ... AH15: =SUM(AH7:AH14) -> 0 | AJ15: =SUM(D15:AH15) -> 0
C17: SAÍDAS | D17: =D4 -> 44682 | E17: =E4 -> 44683 | F17: =F4 -> 44684 | G17: =G4 -> 44685 | H17: =H4 -> 44686 | I17: =I4 -> 44687 | J17: =J4 -> 44688 | K17: =K4 -> 44689 | ... AH17: =AH4 -> 44712 | AJ17: SAÍDAS
AJ18: =SUM(D18:AH18) -> 0
AJ19: =SUM(D19:AH19) -> 0
AJ20: =SUM(D20:AH20) -> 0
AJ21: =SUM(D21:AH21) -> 0
AJ22: =SUM(D22:AH22) -> 0
AJ23: =SUM(D23:AH23) -> 0
AJ24: =SUM(D24:AH24) -> 0
AJ25: =SUM(D25:AH25) -> 0
AJ26: =SUM(D26:AH26) -> 0
AJ27: =SUM(D27:AH27) -> 0
AJ28: =SUM(D28:AH28) -> 0
AJ29: =SUM(D29:AH29) -> 0
... AJ74: =SUM(D74:AH74) -> 0
C75: TOTAL DAS SAÍDAS | D75: =SUM(D18:D74) -> 0 | E75: =SUM(E18:E74) -> 0 | F75: =SUM(F18:F74) -> 0 | G75: =SUM(G18:G74) -> 0 | H75: =SUM(H18:H74) -> 0 | I75: =SUM(I18:I74) -> 0 | J75: =SUM(J18:J74) -> 0 | K75: =SUM(K18:K74) -> 0 | ... AH75: =SUM(AH18:AH74) -> 0 | AJ75: =SUM(D75:AH75) -> 0
C76: 1 (ENTRADAS - SAÍDAS) | D76: =D15-D75 -> 0 | E76: =E15-E75 -> 0 | F76: =F15-F75 -> 0 | G76: =G15-G75 -> 0 | H76: =H15-H75 -> 0 | I76: =I15-I75 -> 0 | J76: =J15-J75 -> 0 | K76: =K15-K75 -> 0 | ... AH76: =AH15-AH75 -> 0 | AJ76: =AJ15-AJ75 -> 0
C77: 2 SALDO ANTERIOR | D77: ='Fluxo Abril'!AJ78 -> 0 | E77: =D78 -> 0 | F77: =E78 -> 0 | G77: =F78 -> 0 | H77: =G78 -> 0 | I77: =H78 -> 0 | J77: =I78 -> 0 | K77: =J78 -> 0 | L77: =K78 -> 0 | ... AH77: =AG78 -> 0 | AJ77: =D77 -> 0
C78: 3 SALDO FINAL | D78: =D76+D77 -> 0 | E78: =E76+E77 -> 0 | F78: =F76+F77 -> 0 | G78: =G76+G77 -> 0 | H78: =H76+H77 -> 0 | I78: =I76+I77 -> 0 | J78: =J76+J77 -> 0 | K78: =K76+K77 -> 0 | ... AH78: =AH76+AH77 -> 0 | AJ78: =AJ76+AJ77 -> 0 | AK78: =IF('Fluxo de Caixa consolidado'!G111='Fluxo Maio'!AJ78,"","Diferença desta planilha com o consolidado")
C81: Saldo conta 1
C82: Saldo conta 2
C83: Saldo Caixa
C84: Total | D84: =SUM(D81:D83) -> 0 | E84: =SUM(E81:E83) -> 0 | F84: =SUM(F81:F83) -> 0 | G84: =SUM(G81:G83) -> 0 | H84: =SUM(H81:H83) -> 0 | I84: =SUM(I81:I83) -> 0 | J84: =SUM(J81:J83) -> 0 | K84: =SUM(K81:K83) -> 0 | ... AH84: =SUM(AH81:AH83) -> 0

Sheet Fluxo Junho
C3: ="Planilha fluxo de caixa diário - "&B5 -> Planilha fluxo de caixa diário - junho
B4: 44348 | C4: Data | D4: =B4 -> 44348 | E4: =D4+1 -> 44349 | F4: =E4+1 -> 44350 | G4: =F4+1 -> 44351 | H4: =G4+1 -> 44352 | I4: =H4+1 -> 44353 | J4: =I4+1 -> 44354 | K4: =J4+1 -> 44355 | L4: =K4+1 -> 44356 | ... AH4: =AG4+1 -> 44378 | AJ4: Total
B5: =TEXT(B4,"Mmmm") -> junho | C5: Dia semana | D5: =IF(D$4<>"",TEXT(D$4,"ddd"),"") -> ter | E5: =IF(E$4<>"",TEXT(E$4,"ddd"),"") -> qua | F5: =IF(F$4<>"",TEXT(F$4,"ddd"),"") -> qui | G5: =IF(G$4<>"",TEXT(G$4,"ddd"),"") -> sex | H5: =IF(H$4<>"",TEXT(H$4,"ddd"),"") -> sáb | I5: =IF(I$4<>"",TEXT(I$4,"ddd"),"") -> dom | J5: =IF(J$4<>"",TEXT(J$4,"ddd"),"") -> seg | K5: =IF(K$4<>"",TEXT(K$4,"ddd"),"") -> ter | ... AH5: =IF(AH$4<>"",TEXT(AH$4,"ddd"),"") -> qui | AJ5: Real
C6: ENTRADAS | D6: Real | E6: Real | F6: Real | G6: Real | H6: Real | I6: Real | J6: Real | K6: Real | L6: Real | M6: Real | N6: Real | O6: Real | P6: Real | Q6: Real | R6: Real | S6: Real | T6: Real | U6: Real | V6: Real | W6: Real | X6: Real | Y6: Real | Z6: Real | AA6: Real | AB6: Real | AC6: Real | AD6: Real | AE6: Real | AF6: Real | AG6: Real | AH6: Real | AJ6: ENTRADAS
C7: Dinheiro | AJ7: =SUM(D7:AH7) -> 0
C8: Tranferências Bancárias | AJ8: =SUM(D8:AH8) -> 0
C9: Cartão | AJ9: =SUM(D9:AH9) -> 0
